BEGIN:VCALENDAR
VERSION:2.0
PRODID:-//Picchio Rosso - ECPv6.15.20//NONSGML v1.0//EN
CALSCALE:GREGORIAN
METHOD:PUBLISH
X-WR-CALNAME:Picchio Rosso
X-ORIGINAL-URL:https://www.picchiorosso.org
X-WR-CALDESC:Eventi per Picchio Rosso
REFRESH-INTERVAL;VALUE=DURATION:PT1H
X-Robots-Tag:noindex
X-PUBLISHED-TTL:PT1H
BEGIN:VTIMEZONE
TZID:UTC
BEGIN:STANDARD
TZOFFSETFROM:+0000
TZOFFSETTO:+0000
TZNAME:UTC
DTSTART:20230101T000000
END:STANDARD
END:VTIMEZONE
BEGIN:VEVENT
DTSTART;TZID=UTC:20241110T090000
DTEND;TZID=UTC:20241110T153000
DTSTAMP:20260421T134311
CREATED:20221128T174401Z
LAST-MODIFIED:20241004T093145Z
UID:1670-1731229200-1731252600@www.picchiorosso.org
SUMMARY:Faggi giganti e panorami. L'anello di Monte Cavallo (E)
DESCRIPTION:Il silenzio.Nessuna voce\, nessuno schiamazzo\, nessuno.Questo è quel che troveremo.Il foliage a tu per tu con dei giganti\, e noi.Solo noi.E poi pascoli\, panorami\, tracce di antichi mestieri. Un percorso completo di immersione nella natura lontana dai luoghi “di grido”. \n\n\n\nQuesta escursione si terrà anche con leggera pioggia o con nebbia. Regala sensazioni uniche con qualsiasi condizione meteo. Non è difficile né lunga. \n\n\n\nIl bosco ha custodito questo “segreto” a lungo. Vieni a goderne insieme a noi. \n\n\n\n\n\n\n\nDATI ESCURSIONE– Itinerario: A/R– Lunghezza: 10 Km– Durata\, soste escluse: 4h– Rientro previsto: ore 15.00 circa– Livello Escursione: E– Dislivello 300m– Adatto ai bambini dagli 8 anni– Cani ammessi. \n\n\n\nPROGRAMMA DELLA GIORNATARitrovi:– Ore 8:30 panificio Fronzi\, Pieve Torina (saranno fornite coordinate google maps precise) \n\n\n\n\n\n\n\nEQUIPAGGIAMENTOScarponi da trekking \, impermeabile/k-way\, pranzo al sacco\, acqua 1 litro a testa. \n\n\n\nEQUIPAGGIAMENTO CONSIGLIATO:Maglia a manica lunga\, guanti e cuffia\, bastoncini da trekking\, snack dolci e/o frutta secca\, macchina fotografica\, un ricambio da tenere in auto. \n\n\n\nCOME PARTECIPAREPer partecipare all’ escursione è obbligatoria la prenotazione (non è sufficiente il “parteciperò” su facebook)\, comunicando nominativo e numero partecipanti\, tramite:Telefono o whatsapp: 366 2263994 (Rodolfo)mail: escursioni@picchiorosso.org \n\n\n\nQUOTA DI PARTECIPAZIONE:Adulti € 15Minorenni gratis \n\n\n\nCHI GUIDERA’Rodolfo\, Guida Ambientale escursionistica iscritta AIGAE (numero iscrizione MR203)\, coperto da assicurazione RCT. 
URL:https://www.picchiorosso.org/event/i-faggi-giganti-di-monte-cavallo
CATEGORIES:Escursioni giornaliere
ATTACH;FMTTYPE=image/png:https://www.picchiorosso.org/wp-content/uploads/2022/11/Monte-Cavallo.png
END:VEVENT
END:VCALENDAR