BEGIN:VCALENDAR
VERSION:2.0
PRODID:-//Picchio Rosso - ECPv6.15.20//NONSGML v1.0//EN
CALSCALE:GREGORIAN
METHOD:PUBLISH
X-ORIGINAL-URL:https://www.picchiorosso.org
X-WR-CALDESC:Eventi per Picchio Rosso
REFRESH-INTERVAL;VALUE=DURATION:PT1H
X-Robots-Tag:noindex
X-PUBLISHED-TTL:PT1H
BEGIN:VTIMEZONE
TZID:UTC
BEGIN:STANDARD
TZOFFSETFROM:+0000
TZOFFSETTO:+0000
TZNAME:UTC
DTSTART:20230101T000000
END:STANDARD
END:VTIMEZONE
BEGIN:VEVENT
DTSTART;TZID=UTC:20241114T090000
DTEND;TZID=UTC:20241114T153000
DTSTAMP:20260421T134338
CREATED:20190907T140237Z
LAST-MODIFIED:20251020T075313Z
UID:1297-1731574800-1731598200@www.picchiorosso.org
SUMMARY:Pizzo di Sevo e il tracciolino di Annibale (E)
DESCRIPTION:Pizzo di Sevo. 2419 metri slm e un panorama che abbraccia tutta la piana di Amatrice fino al lago di Campotosto. \n\n\n\nNe conquisteremo la vetta seguendo le orme di uno dei più grandi generali dell’antichità\, il cartaginese Annibale che la leggenda vuole abbia usato questo sentiero per valicare gli appennini con i suoi elefanti. \n\n\n\nUna passeggiata impegnativa ma tecnicamente facile\, con scorci e panorami unici sui monti della Laga\, una prospettiva insolita sui Sibillini e una vista privilegiata sul massiccio del Gran Sasso. \n\n\n\nDATI ESCURSIONE \n\n\n\n\nItinerario: A/R\n\n\n\nLunghezza: 11 Km \n\n\n\nDurata\, soste escluse: 4h\n\n\n\nRientro previsto: ore 16 circa\n\n\n\nLivello Escursione: E \n\n\n\nDislivello 750m\n\n\n\nNon adatta ai bambini\n\n\n\nCani ammessi.\n\n\n\n\nPROGRAMMA DELLA GIORNATA\nRitrovi: \n\n\n\n\nOre 8:15 Bar Pinco Panco – Acquasanta TermeDa qui procederemo insieme al punto da cui avrà inizio l’escursione\n\n\n\n\nEQUIPAGGIAMENTO\nScarponcini da trekking \, impermeabile/k-way\, cappellino\, crema solare\, occhiali da sole\, pranzo al sacco\, acqua almeno 1 litro a testa. \n\n\n\nEQUIPAGGIAMENTO CONSIGLIATO:\nMaglia a manica lunga\, bastoncini da trekking\, snack dolci e/o frutta secca\, macchina fotografica\, un ricambio da tenere in auto. \n\n\n\nCOME PARTECIPARE\nPer partecipare all’ escursione è obbligatoria la prenotazione (non è sufficiente il “parteciperò” su facebook)\, comunicando nominativo e numero partecipanti\, tramite: \n\n\n\ntelefono o whatsapp: 366 2263994 (Rodolfo)\nmail: escursioni@picchiorosso.org \n\n\n\nQUOTA DI PARTECIPAZIONE:\n€ 15 \n\n\n\nLa quota comprende: Guida Ambientale Escursionistica iscritta AIGAE con assicurazione RCT. Facoltativa assicurazione infortuni (+€1.30) da richiedere al momento della prenotazione. \n\n\n\nNOTA\nLa guida è legittimata a variare gli itinerari anche in corso di svolgimento finanche ad interrompere l’escursione\, allo scopo di tutelare la sicurezza del gruppo o di una sua parte.
URL:https://www.picchiorosso.org/event/pizzo-di-sevo-e-il-tracciolino-di-annibale-e
CATEGORIES:Escursioni giornaliere
ATTACH;FMTTYPE=image/png:https://www.picchiorosso.org/wp-content/uploads/2019/09/DSC01701_web.png
END:VEVENT
END:VCALENDAR