BEGIN:VCALENDAR
VERSION:2.0
PRODID:-//Picchio Rosso - ECPv6.15.20//NONSGML v1.0//EN
CALSCALE:GREGORIAN
METHOD:PUBLISH
X-WR-CALNAME:Picchio Rosso
X-ORIGINAL-URL:https://www.picchiorosso.org
X-WR-CALDESC:Eventi per Picchio Rosso
REFRESH-INTERVAL;VALUE=DURATION:PT1H
X-Robots-Tag:noindex
X-PUBLISHED-TTL:PT1H
BEGIN:VTIMEZONE
TZID:UTC
BEGIN:STANDARD
TZOFFSETFROM:+0000
TZOFFSETTO:+0000
TZNAME:UTC
DTSTART:20240101T000000
END:STANDARD
END:VTIMEZONE
BEGIN:VEVENT
DTSTART;TZID=UTC:20250119T090000
DTEND;TZID=UTC:20250119T140000
DTSTAMP:20260421T103659
CREATED:20241120T093234Z
LAST-MODIFIED:20250112T150722Z
UID:2089-1737277200-1737295200@www.picchiorosso.org
SUMMARY:La fonte dell'aquila (T/E)
DESCRIPTION:Il versante sud ovest del monte Valvasseto\, sul cui pendio cammineremo in tranquillità durante questa passeggiata\, offre panorami unici su tutta la parte nord dei Sibillini. Da lì si possono ammirare le cime oltre i 2000 metri di Monte Rotondo\, di Pizzo Acuto e Pizzo Tre Vescovi fino a Pizzo Berro e alla Priora. \n\n\n\nDi fronte noi scorrono le ripide pareti della valle del Rio Sacro e della valle del Fiastrone. Le aquile da sempre scelgono le pareti che si affacciano su di esse come luogo di nidificazione. E la fonte che raggiungeremo prende il nome proprio dall’abitudine di questi rapaci di usarla come abbeveratoio. L’avvistamento non è raro in questa zona. \n\n\n\nUna camminata alla portata di tutti\, piena di spunti naturalistici\, storici e geologici\, che ci porterà anche a toccare l’area faunistica del camoscio appenninico\, importante passo per la restituzione ai Sibillini di questo magnifico animale. \n\n\n\nDATI ESCURSIONE– Itinerario: A/R– Lunghezza: 7 Km– Durata\, soste escluse: 2.5h– Rientro previsto: ore 14.30 circa– Livello Escursione: T/E– Dislivello 200m– Adatto ai bambini di qualsiasi età– Cani ammessi. \n\n\n\nPROGRAMMA DELLA GIORNATARitrovi:– Ore 8:45 Fiastra\, bar “Il Gatto e la Volpe” (saranno fornite coordinate google maps.Da lì proseguiremo in auto fino al luogo di partenza (10 min) \n\n\n\nEQUIPAGGIAMENTOScarponcini da trekking \, impermeabile/k-way\, cappellino\, crema solare\, occhiali da sole\, pranzo al sacco\, acqua 1 litro a testa. \n\n\n\nEQUIPAGGIAMENTO CONSIGLIATO:Maglia a manica lunga\, bastoncini da trekking\, snack dolci e/o frutta secca\, macchina fotografica\, un ricambio da tenere in auto. \n\n\n\nCOME PARTECIPAREPer partecipare all’ escursione è obbligatoria la prenotazione (non è sufficiente il “parteciperò” su facebook)\, comunicando nominativo e numero partecipanti\, tramite:elefono o whatsapp: 366 2263994 (Rodolfo)mail: escursioni@picchiorosso.org \n\n\n\nQUOTA DI PARTECIPAZIONE:€ 15 AdultiMinorenni gratis. \n\n\n\nChi guiderà:Rodolfo\, Guida Ambientale escursionistica iscritta AIGAE (numero iscrizione MR203)\, coperto da assicurazione RCT.
URL:https://www.picchiorosso.org/event/la-fonte-dellaquila-t-e
CATEGORIES:Escursioni giornaliere
ATTACH;FMTTYPE=image/jpeg:https://www.picchiorosso.org/wp-content/uploads/2019/07/001-1.jpg
END:VEVENT
END:VCALENDAR