BEGIN:VCALENDAR
VERSION:2.0
PRODID:-//Picchio Rosso - ECPv6.15.20//NONSGML v1.0//EN
CALSCALE:GREGORIAN
METHOD:PUBLISH
X-WR-CALNAME:Picchio Rosso
X-ORIGINAL-URL:https://www.picchiorosso.org
X-WR-CALDESC:Eventi per Picchio Rosso
REFRESH-INTERVAL;VALUE=DURATION:PT1H
X-Robots-Tag:noindex
X-PUBLISHED-TTL:PT1H
BEGIN:VTIMEZONE
TZID:UTC
BEGIN:STANDARD
TZOFFSETFROM:+0000
TZOFFSETTO:+0000
TZNAME:UTC
DTSTART:20240101T000000
END:STANDARD
END:VTIMEZONE
BEGIN:VEVENT
DTSTART;TZID=UTC:20250501T090000
DTEND;TZID=UTC:20250501T153000
DTSTAMP:20260421T035039
CREATED:20230324T122751Z
LAST-MODIFIED:20250224T204930Z
UID:1749-1746090000-1746113400@www.picchiorosso.org
SUMMARY:La cascata del Buon Natale (E)
DESCRIPTION:Posta esattamente sul confine fra Marche e Lazio\, la cascata della Padura è chiamata anche del Buon Natale perché nel periodo delle vacanze Natalizie spesso ghiaccia ed è meta di scalate.E’ uno dei più begli esempi di salti in arenaria della catena dei Monti della Laga. Questa roccia infatti non lascia filtrare al suo interno l’acqua di scioglimento delle nevi\, che a primavera deve trovarsi una via in superficie andando a formare impetuose cascate.Noi ci andremo proprio quando la sua portata la rende più bella\, a primavera. \n\n\n\nLa passeggiata è comoda e non ha tratti esposti o vertiginosi\, e si svolge per buona parte in una ombrosa faggeta. Anche il dislivello è ben distribuito\, il che la rende adatta davvero a tutti. Lungo il percorso ci capiterà probabilmente di ammirare delle bellissime trote appenniniche. \n\n\n\nDATI ESCURSIONE– Itinerario: Anello– Lunghezza: 11\,3 Km– Durata\, soste escluse: 4h– Rientro previsto: ore 15.30 circa– Livello Escursione: E– Dislivello 400m– Adatto ai bambini dagli 8 anni– Cani ammessi. \n\n\n\nPROGRAMMA DELLA GIORNATARitrovi:– Ore 8:30 bar “Pinco Panco”\, Acquasanta Terme (saranno fornite coordinate google maps) \n\n\n\nEQUIPAGGIAMENTOScarponi da trekking \, impermeabile/k-way\, pranzo al sacco\, acqua 1 litro a testa. \n\n\n\nEQUIPAGGIAMENTO CONSIGLIATO:Bastoncini da trekking\, snack dolci e/o frutta secca\, macchina fotografica\, un ricambio da tenere in auto. \n\n\n\nCOME PARTECIPAREPer partecipare all’ escursione è obbligatoria la prenotazione (non è sufficiente il “parteciperò” su facebook)\, comunicando nominativo e numero partecipanti\, tramite:Telefono o whatsapp: 366 2263994 (Rodolfo)mail: escursioni@picchiorosso.org \n\n\n\nQUOTA DI PARTECIPAZIONE:Adulti € 15Minorenni gratis \n\n\n\nCHI GUIDERA’Rodolfo\, Guida Ambientale escursionistica iscritta AIGAE (numero iscrizione MR203)\, coperto da assicurazione RCT. 
URL:https://www.picchiorosso.org/event/1749
ATTACH;FMTTYPE=image/png:https://www.picchiorosso.org/wp-content/uploads/2023/03/cacata-buon-natale-lo_res.png
END:VEVENT
END:VCALENDAR