BEGIN:VCALENDAR
VERSION:2.0
PRODID:-//Picchio Rosso - ECPv6.15.20//NONSGML v1.0//EN
CALSCALE:GREGORIAN
METHOD:PUBLISH
X-WR-CALNAME:Picchio Rosso
X-ORIGINAL-URL:https://www.picchiorosso.org
X-WR-CALDESC:Eventi per Picchio Rosso
REFRESH-INTERVAL;VALUE=DURATION:PT1H
X-Robots-Tag:noindex
X-PUBLISHED-TTL:PT1H
BEGIN:VTIMEZONE
TZID:UTC
BEGIN:STANDARD
TZOFFSETFROM:+0000
TZOFFSETTO:+0000
TZNAME:UTC
DTSTART:20250101T000000
END:STANDARD
END:VTIMEZONE
BEGIN:VEVENT
DTSTART;TZID=UTC:20260531T090000
DTEND;TZID=UTC:20260531T173000
DTSTAMP:20260421T015430
CREATED:20260419T145000Z
LAST-MODIFIED:20260419T145624Z
UID:1611-1780218000-1780248600@www.picchiorosso.org
SUMMARY:La valle delle Peonie (E)
DESCRIPTION:L’alta valle dell’Ambro.Uno scrigno prezioso\, nascosto e lontano dai sentieri più frequentati. Raggiungibile con un percorso incredibile che presenta mille tipi diversi di bellezza: boschi secolari\, antichi villaggi abbandonati\, carbonaie\, panorami mozzafiato\, fioriture primaverili sui pascoli. Un percorso che affronteremo con calma godendoci ogni suo singolo aspetto! E poi su\, nella valle\, dove le Peonie fioriscono splendide! Non fatevi spaventare da lunghezza e dislivello\, l’escursione può farla chiunque abbia un minimo di abitudine alla camminata. \n\n\n\nDATI ESCURSIONE– Lunghezza: 16 Km– Durata\, soste escluse: 7 h– Rientro previsto: ore 18.30 circa– Livello Escursione: E– Dislivello 750m– Adatta ai bambini dai 12 anni– Cani non ammessi. \n\n\n\n \n\n\n\n\n\n\n\nPROGRAMMA DELLA GIORNATARitrovi:– Ore 8:30 bar Fonte della Valle Montefortino (saranno fornite coordinate google maps) \n\n\n\nEQUIPAGGIAMENTOScarpe da trekking\, abbigliamento a strati adatto a un clima invernale\, impermeabile/k-way\, cappello\, acqua almeno un litro a testa. \n\n\n\nEQUIPAGGIAMENTO CONSIGLIATO:Bastoncini da trekking\, snack dolci e/o frutta secca\, un ricambio da tenere in auto.COME PARTECIPAREPer partecipare all’ escursione è obbligatoria la prenotazione (non è sufficiente il “parteciperò” su facebook)\, comunicando nominativo e numero partecipanti\, tramite:telefono o whatsapp: 366 2263994 (Rodolfo)mail: escursioni@picchiorosso.org \n\n\n\nQUOTA DI PARTECIPAZIONE:€ 15Minorenni gratis
URL:https://www.picchiorosso.org/event/la-valle-delle-peonie-e
CATEGORIES:Escursioni giornaliere
ATTACH;FMTTYPE=image/png:https://www.picchiorosso.org/wp-content/uploads/2022/04/peonie.png
END:VEVENT
END:VCALENDAR