BEGIN:VCALENDAR
VERSION:2.0
PRODID:-//Picchio Rosso - ECPv6.15.20//NONSGML v1.0//EN
CALSCALE:GREGORIAN
METHOD:PUBLISH
X-WR-CALNAME:Picchio Rosso
X-ORIGINAL-URL:https://www.picchiorosso.org
X-WR-CALDESC:Eventi per Picchio Rosso
REFRESH-INTERVAL;VALUE=DURATION:PT1H
X-Robots-Tag:noindex
X-PUBLISHED-TTL:PT1H
BEGIN:VTIMEZONE
TZID:UTC
BEGIN:STANDARD
TZOFFSETFROM:+0000
TZOFFSETTO:+0000
TZNAME:UTC
DTSTART:20250101T000000
END:STANDARD
END:VTIMEZONE
BEGIN:VEVENT
DTSTART;TZID=UTC:20260104T090000
DTEND;TZID=UTC:20260104T150000
DTSTAMP:20260420T135746
CREATED:20200114T204051Z
LAST-MODIFIED:20251225T155749Z
UID:1342-1767517200-1767538800@www.picchiorosso.org
SUMMARY:Anello della Val Canatra + lenticchia e pecorini (E)
DESCRIPTION:Cammineremo (o ciaspoleremo) in un paesaggio solitario di una valle poco nota\, la Valle Canatra\, dove si può ripercorrere il lungo tragitto che i pastori e le greggi compivano durante la transumanza per raggiungere in inverno i pascoli della Maremma. Ma non si è mai veramente soli\, perchè nascoste sotto i rami dei faggi maestosi potrebbero ancora esserci fate e sibille! \n\n\n\n\n\n\n\nAl termine faremo tappa a Castelluccio per un “terzo tempo” a base di salumi\, formaggi e per chi vuole anche un bel piatto di lenticchie calde… \n\n\n\n\n\n\n\nCome d’abitudine\, il vin brulè lo offre la guida! \n\n\n\nDATI ESCURSIONE– Itinerario: ad Anello– Lunghezza: 10 Km – Durata\, soste escluse: 3\,5 h– Rientro previsto: ore 14\,30 circa– Livello Escursione: E – Dislivello 270m– Adatta ai bambini dai 10 anni– Cani ammessi. \n\n\n\n\n\n\n\nSe si ciaspolerà\, la guida dispone di 12 paia da noleggiare  (+5 Euro) che saranno usate in ordine di prenotazione fino ad esaurimento \n\n\n\nPROGRAMMA DELLA GIORNATARitrovi:– Ore 8:30 bar “il Navigante”\, Castelsantangelo sul NeraDa qui raggiungeremo la piana e il punto di partenza dell’escursione (ore 9 circa) \n\n\n\nEQUIPAGGIAMENTO OBBLIGATORIOScarpe da trekking \, abbigliamento a strati adatto ad un clima invernale\, impermeabile/k-way\, guanti e cappello o cuffia\, acqua almeno mezzo litro a testa\, pranzo al sacco. In caso di ciaspolata abbigliamento da sci/fondo e scarponi impermeabili (non moonboot o doposci). \n\n\n\nEQUIPAGGIAMENTO CONSIGLIATO:Bastoncini da trekking\, occhiali da sole\, snack dolci e/o frutta secca\, un ricambio da tenere in auto. \n\n\n\nCOME PARTECIPAREPer partecipare all’ escursione è obbligatoria la prenotazione (non è sufficiente il “parteciperò” su facebook)\, comunicando nominativo e numero partecipanti\, tramite: \n\n\n\ntelefono o whatsapp: 366 2263994 (Rodolfo) \n\n\n\nQUOTA DI PARTECIPAZIONE:€ 15 \n\n\n\nLa quota comprende: Guida Ambientale Escursionistica iscritta AIGAE con assicurazione RCT. Facoltativa assicurazione infortuni (+€1.30) da richiedere al momento della prenotazione.
URL:https://www.picchiorosso.org/event/anello-della-val-canatra-lenticchia-e-pecorini-e
CATEGORIES:Escursioni giornaliere
ATTACH;FMTTYPE=image/png:https://www.picchiorosso.org/wp-content/uploads/2020/01/image-2.png
END:VEVENT
END:VCALENDAR