BEGIN:VCALENDAR
VERSION:2.0
PRODID:-//Picchio Rosso - ECPv6.15.20//NONSGML v1.0//EN
CALSCALE:GREGORIAN
METHOD:PUBLISH
X-ORIGINAL-URL:https://www.picchiorosso.org
X-WR-CALDESC:Eventi per Picchio Rosso
REFRESH-INTERVAL;VALUE=DURATION:PT1H
X-Robots-Tag:noindex
X-PUBLISHED-TTL:PT1H
BEGIN:VTIMEZONE
TZID:UTC
BEGIN:STANDARD
TZOFFSETFROM:+0000
TZOFFSETTO:+0000
TZNAME:UTC
DTSTART:20250101T000000
END:STANDARD
END:VTIMEZONE
BEGIN:VEVENT
DTSTART;TZID=UTC:20260118T090000
DTEND;TZID=UTC:20260118T150000
DTSTAMP:20260420T134900
CREATED:20191127T203952Z
LAST-MODIFIED:20260112T115325Z
UID:1328-1768726800-1768748400@www.picchiorosso.org
SUMMARY:Il grande anello del Conero e il Passo del Lupo (E)
DESCRIPTION:Il monte Conero\, per gli anconetani semplicemente “Il monte” è un miracolo naturalistico e un simbolo “vivente” dela resilienza della natura\, trasformatosi negli ultimi 100 anni da brulla collina degradata dai pascoli a rigogliosa foresta di pini e lecci. Un monte fin dall’antichità abitato e conosciuto dall’uomo che vi ha scavato cave\, costruito case\, edificato monasteri ed abbazie. \n\n\n\nIn questo giro COMPLETO visiteremo tutti i punti di interesse nascosti nei meandri dei suoi sentieri. Visiteremo il belvedere verso le colline marchigiane\, le antiche grotte romane\, il belvedere Nord che affaccia su Portonovo ed i suoi laghetti\, poi ci immergeremo nella storia medioevale passando per l’antico monastero. Scenderemo quindi verso il belvedere Sud e il passo del Lupo. \n\n\n\nUn tour delle bellezze naturalistiche\, storiche\, culturali di questo antico testimone della storia\, degli errori e finalmente anche del recupero ambientale degli ultimi 2000 anni. \n\n\n\nDATI ESCURSIONE \n\n\n\n\nItinerario: ad anello\n\n\n\nLunghezza: 8 Km \n\n\n\nDurata soste escluse: 3h\n\n\n\nRientro previsto: ore 14:30 circa\n\n\n\nLivello Escursione: E \n\n\n\nDislivello 300m\n\n\n\nAdatta ai bambini dagli 8 anni.\n\n\n\nCani ammessi.\n\n\n\n\nPROGRAMMA DELLA GIORNATA\nRitrovi: \n\n\n\n\nOre 9:00 Parcheggio sommitale del Conero\n\n\n\n\nEQUIPAGGIAMENTO\nScarpe da trekking \, pantoloni e manica lunga\, guanti\, pranzo al sacco\, acqua 1 litro a testa. \n\n\n\nEQUIPAGGIAMENTO CONSIGLIATO:\nImpermeabile\, bastoncini da trekking\, snack dolci e/o frutta secca\, macchina fotografica\, un ricambio da tenere in auto. \n\n\n\n \n\n\n\nCOME PARTECIPARE\nPer partecipare all’ escursione è obbligatoria la prenotazione (non è sufficiente il “parteciperò” su facebook)\, comunicando nominativo e numero partecipanti\, tramite: \n\n\n\ntelefono o whatsapp: 366 2263994 (Rodolfo)\nmail: escursioni@picchiorosso.org \n\n\n\nQUOTA DI PARTECIPAZIONE:\n€ 15 adulti\nGratis ragazzi sotto ai 14 anni. \n\n\n\nCHI GUIDERA’: \n\n\n\nRodolfo\, guida AIGAE (MR203)\, con assicurazione RCT.
URL:https://www.picchiorosso.org/event/il-grande-anello-del-conero-e-il-passo-del-lupo-e
ATTACH;FMTTYPE=image/jpeg:https://www.picchiorosso.org/wp-content/uploads/2019/06/DSC03119_web.jpg
END:VEVENT
END:VCALENDAR