BEGIN:VCALENDAR
VERSION:2.0
PRODID:-//Picchio Rosso - ECPv6.15.20//NONSGML v1.0//EN
CALSCALE:GREGORIAN
METHOD:PUBLISH
X-WR-CALNAME:Picchio Rosso
X-ORIGINAL-URL:https://www.picchiorosso.org
X-WR-CALDESC:Eventi per Picchio Rosso
REFRESH-INTERVAL;VALUE=DURATION:PT1H
X-Robots-Tag:noindex
X-PUBLISHED-TTL:PT1H
BEGIN:VTIMEZONE
TZID:UTC
BEGIN:STANDARD
TZOFFSETFROM:+0000
TZOFFSETTO:+0000
TZNAME:UTC
DTSTART:20240101T000000
END:STANDARD
END:VTIMEZONE
BEGIN:VEVENT
DTSTART;TZID=UTC:20250427T090000
DTEND;TZID=UTC:20250427T160000
DTSTAMP:20260421T040235
CREATED:20240228T182819Z
LAST-MODIFIED:20250412T100007Z
UID:1882-1745744400-1745769600@www.picchiorosso.org
SUMMARY:Il balcone sui Sibillini. L' anello del monte Fema: tra panorami e fioriture (E)
DESCRIPTION:Siete amanti della natura e dei panorami mozzafiato? Allora non potete perdervi l’escursione sul Monte Fema. Un’occasione imperdibile per immergersi nella bellezza incontaminata\, ammirare da una prospettiva nuova panorami mozzafiato sui monti Sibillini e vivere un’esperienza memorabile. \n\n\n\nPercorreremo vecchi pascoli ormai abbandonati\, fino a raggiungere la vetta e di essere avvolti da un silenzio irreale\, rotto solo dal canto degli uccelli.Ammireremo la vista spettacolare che si apre davanti ai nostriocchi: la vallata sottostante\, le montagne circostanti che si stagliano all’orizzonte\, un vero e proprio capolavoro della natura.Perdetevi nei colori vivaci delle fioriture di fiori selvatici che\, in quel periodo\, tappezzano il monte come un manto multicolore. Tra narcisi selvatici\, orchidee selvatiche\, ranuncoli e violette\, avrete l’occasione di ammirare una vera e propria esplosione di bellezza. \n\n\n\n\n\n\n\nDATI ESCURSIONEItinerario: ad anelloLunghezza: 12 KmDurata\, soste escluse: 5hRientro previsto: ore 16:00 circaLivello Escursione: EDislivello: 720mAdatta ai bambini dai 12 anniCani ammessi. \n\n\n\nPROGRAMMA DELLA GIORNATARitrovi: Ore 8:30 Visso (Saranno fornite coordinate google maps) \n\n\n\nEQUIPAGGIAMENTO:Scarpe da trekking \, cappellino\, pranzo al sacco\, acqua almeno 1 litro a testa. \n\n\n\nEQUIPAGGIAMENTO CONSIGLIATO: Impermeabile\, bastoncini da trekking\, snack dolci e/o frutta secca\, macchina fotografica\, un ricambio da tenere in auto. \n\n\n\nCOME PARTECIPAREPer partecipare all’ escursione è obbligatoria la prenotazione (non è sufficiente il “parteciperò” su facebook)\, comunicando nominativo e numero partecipanti\, tramite:telefono o whatsapp: 366 2263994 (Rodolfo)mail: escursioni@picchiorosso.org \n\n\n\nQUOTA DI PARTECIPAZIONE:€ 15 adultiMinorenni gratis \n\n\n\nChi guiderà:Rodolfo\, Guida Ambientale escursionistica iscritta AIGAE (numero iscrizione MR203)\, coperto da assicurazione RCT.
URL:https://www.picchiorosso.org/event/le-meravigliose-fioriture-del-monte-fema
CATEGORIES:Escursioni giornaliere
ATTACH;FMTTYPE=image/jpeg:https://www.picchiorosso.org/wp-content/uploads/2024/02/fema001.jpg
END:VEVENT
END:VCALENDAR