BEGIN:VCALENDAR
VERSION:2.0
PRODID:-//Picchio Rosso - ECPv6.15.20//NONSGML v1.0//EN
CALSCALE:GREGORIAN
METHOD:PUBLISH
X-ORIGINAL-URL:https://www.picchiorosso.org
X-WR-CALDESC:Eventi per Picchio Rosso
REFRESH-INTERVAL;VALUE=DURATION:PT1H
X-Robots-Tag:noindex
X-PUBLISHED-TTL:PT1H
BEGIN:VTIMEZONE
TZID:UTC
BEGIN:STANDARD
TZOFFSETFROM:+0000
TZOFFSETTO:+0000
TZNAME:UTC
DTSTART:20240101T000000
END:STANDARD
END:VTIMEZONE
BEGIN:VEVENT
DTSTART;TZID=UTC:20250921T083000
DTEND;TZID=UTC:20250921T153000
DTSTAMP:20260420T192155
CREATED:20190907T135619Z
LAST-MODIFIED:20250916T102653Z
UID:1291-1758443400-1758468600@www.picchiorosso.org
SUMMARY:La regina dei sibillini - Ascesa al monte Priora (E)
DESCRIPTION:Il monte Priora. Altrimenti chiamata “Pizzo della Regina”\, da sempre\, pur non essendo la vetta più alta del gruppo montuoso\, è la meta più desiderata e agognata.  Questo per via della sua posizione centrale\, della sua imponenza visibile fino al mare\, e delle lunghe camminate e dislivelli importanti necessari\, quando la forcella del Fargno non è raggiungibile\, per arrivare in vetta. \n\n\n\nApprofitteremo della riapertura della strada per il Fargno da Casali per attaccare la cresta da una posizione privilegiata\, in modo che il dislivello sia agevole e l’escursione piacevole per tutti. \n\n\n\nA seguire meritatissimo “terzo tempo” al rifugio stesso \n\n\n\nApprofittatene prima che l’arrivo dell’inverno richiuda nuovamente la strada! \n\n\n\nDATI ESCURSIONE \n\n\n\n\nItinerario: A/R\n\n\n\nLunghezza: 10 Km \n\n\n\nDurata\, soste escluse: 4h\n\n\n\nRientro previsto: ore 15 circa\n\n\n\nLivello Escursione: E \n\n\n\nDislivello 600m\n\n\n\nNon adatta ai bambini\n\n\n\nCani non ammessi.\n\n\n\n\nPROGRAMMA DELLA GIORNATA\nRitrovi: \n\n\n\n\nOre 8:30 bar due monti – Ussita\n\n\n\n\nDa qui procederemo insieme al rifugio del fargno da cui avrà inizio l’escursione \n\n\n\nEQUIPAGGIAMENTO\nScarponcini da trekking \, impermeabile/k-way\, cappellino\, crema solare\, occhiali da sole\, pranzo al sacco\, acqua 1 litro a testa. \n\n\n\nEQUIPAGGIAMENTO CONSIGLIATO:\nMaglia a manica lunga\, bastoncini da trekking\, snack dolci e/o frutta secca\, macchina fotografica\, un ricambio da tenere in auto. \n\n\n\nCOME PARTECIPARE\nPer partecipare all’ escursione è obbligatoria la prenotazione (non è sufficiente il “parteciperò” su facebook)\, comunicando nominativo e numero partecipanti\, tramite: \n\n\n\ntelefono o whatsapp: 366 2263994 (Rodolfo)\nmail: escursioni@picchiorosso.org \n\n\n\nQUOTA DI PARTECIPAZIONE:\n€ 15 \n\n\n\nLa quota comprende: Guida Ambientale Escursionistica iscritta AIGAE con assicurazione RCT. Facoltativa assicurazione infortuni (+€1.30) da richiedere al momento della prenotazione. \n\n\n\nNOTA\nLa guida è legittimata a variare gli itinerari\, anche in corso di svolgimento\, fino anche ad interrompere l’escursione\, a
URL:https://www.picchiorosso.org/event/la-regina-dei-sibillini-ascesa-al-monte-priora-e
CATEGORIES:Escursioni giornaliere
ATTACH;FMTTYPE=image/jpeg:https://www.picchiorosso.org/wp-content/uploads/2019/09/Monte_Priora_-_Cresta_Ovest_2.jpg
END:VEVENT
END:VCALENDAR