BEGIN:VCALENDAR
VERSION:2.0
PRODID:-//Picchio Rosso - ECPv6.15.20//NONSGML v1.0//EN
CALSCALE:GREGORIAN
METHOD:PUBLISH
X-ORIGINAL-URL:https://www.picchiorosso.org
X-WR-CALDESC:Eventi per Picchio Rosso
REFRESH-INTERVAL;VALUE=DURATION:PT1H
X-Robots-Tag:noindex
X-PUBLISHED-TTL:PT1H
BEGIN:VTIMEZONE
TZID:UTC
BEGIN:STANDARD
TZOFFSETFROM:+0000
TZOFFSETTO:+0000
TZNAME:UTC
DTSTART:20240101T000000
END:STANDARD
END:VTIMEZONE
BEGIN:VEVENT
DTSTART;TZID=UTC:20251109T083000
DTEND;TZID=UTC:20251109T160000
DTSTAMP:20260421T020443
CREATED:20251018T160028Z
LAST-MODIFIED:20251020T075247Z
UID:2197-1762677000-1762704000@www.picchiorosso.org
SUMMARY:L'anello dei boschi di Collattoni (E)
DESCRIPTION:Un itinerario che consente di scoprire la meravigliosa natura\, fra Collatoni e Pantaneto\, e la storia della Romita eremo del XII secolo\, appartenuto alla diocesi di Camerino dal 1587\, e in cui sono ricordati questi luoghi. Nel maggio del ’44 la zona era divenuta rifugio di brigate di partigiani provenienti da varie regioni che\, estratti dopo un lungo cammino\, ripassarono le giornate di tortura. Nei paesi del circondario si seppe che i soldati germanici arrivarono alla chiesetta\, e nel conflitto caddero tre partigiani\, oggi ricordati in una lapide in loro onore. \n\n\n\n\n\n\nPartiremo da Collattoni e percorreremo splendidi boschi di Aceri e Faggi fino a raggiungere un luogo in cui sono presenti esemplari plurisecolari. Poi un comodo percorso al ritorno\, prima nei boschi e poi all’aperto con splendidi panorami. \n\n\n\nUn percorso adatto a tutti\, immerso nella natura e nel silenzio\, ricco di acqua e di bellezze naturalistiche. \n\n\n\nDATI ESCURSIONE– Itinerario: Anello– Lunghezza: 10 Km– Durata\, soste escluse: 3\,5 h– Rientro previsto: ore 15:00 circa– Livello Escursione: E– Dislivello 500 m– Adatta ai ragazzi di qualsiasi età.– Cani ammessi. \n\n\n\n \n\n\n\nPROGRAMMA DELLA GIORNATARitrovi:– Ore 8:30 Bar Fronzi\, Pieve Torina \n\n\n\nEQUIPAGGIAMENTOScarpe da trekking\, acqua\, pranzo al sacco\, k-way o impermeabile. \n\n\n\nEQUIPAGGIAMENTO CONSIGLIATO:Bastoncini da trekking\, scarponi alti\, ghette\, snack dolci e/o frutta secca\,un ricambio da tenere in auto. \n\n\n\nCOME PARTECIPAREPer partecipare all’ escursione è obbligatoria la prenotazione (non è sufficiente il “parteciperò” su facebook)\, comunicando nominativo e numero partecipanti\, tramite: \n\n\n\ntelefono o whatsapp: 366 2263994 (Rodolfo)mail: escursioni@picchiorosso.org \n\n\n\nQUOTA DI PARTECIPAZIONE:€ 15 adultiMinorenni gratis \n\n\n\nChi guiderà:Rodolfo\, Guida Ambientale escursionistica iscritta AIGAE (numero iscrizione MR203)\, coperto da assicurazione RCT.
URL:https://www.picchiorosso.org/event/lanello-dei-boschi-di-collattoni-e
CATEGORIES:Escursioni giornaliere
ATTACH;FMTTYPE=image/png:https://www.picchiorosso.org/wp-content/uploads/2025/10/20251018_115640-scaled.png
END:VEVENT
BEGIN:VEVENT
DTSTART;TZID=UTC:20251214T090000
DTEND;TZID=UTC:20251214T153000
DTSTAMP:20260421T020443
CREATED:20210625T130620Z
LAST-MODIFIED:20251201T142654Z
UID:1479-1765702800-1765726200@www.picchiorosso.org
SUMMARY:La passeggiata dei tre boschi (E)
DESCRIPTION:Querce\, faggi\, castagni. \n\n\n\nUna passeggiata ai piedi del Vettore per ammirare ben tre diversi tipi di bosco. I loro elementi naturali\, i segno dell’intervento umano\, le peculiarità della flora e della fauna che li contraddistinguono. \n\n\n\nPer attraversarli cammineremo lungo un antico sentiero. Tracce di un passato quasi dimenticato fatto di migrazioni stagionali attraverso le montagne alla ricerca di lavoro\, cibo\, vita. \n\n\n\nIl sentiero che più di ogni altro permette di ammirare la maestosità del Monte Vettore. Per tutto il percorso potremo ammirarne l’imponenza e la silenziosa maestosità. \n\n\n\nDATI ESCURSIONEItinerario: ad anelloLunghezza: 10 KmDurata\, soste escluse: 4hRientro previsto: ore 15;30 circaLivello Escursione: EDislivello 300mAdatta ai bambini dagli 8 anniCani ammessi. \n\n\n\nPROGRAMMA DELLA GIORNATARitrovi: Ore 8:30 Flory Caffetteria – Comunanza. \n\n\n\nEQUIPAGGIAMENTO:Scarpe da trekking \, cappellino\, pranzo al sacco\, acqua 1 litro a testa. \n\n\n\nEQUIPAGGIAMENTO CONSIGLIATO: Impermeabile\, bastoncini da trekking\, snack dolci e/o frutta secca\, macchina fotografica\, un ricambio da tenere in auto. \n\n\n\nCOME PARTECIPAREPer partecipare all’ escursione è obbligatoria la prenotazione (non è sufficiente il “parteciperò” su facebook)\, comunicando nominativo e numero partecipanti\, tramite:telefono o whatsapp: 366 2263994 (Rodolfo)mail: escursioni@picchiorosso.org \n\n\n\nQUOTA DI PARTECIPAZIONE:€ 15 adultiMinorenni gratis
URL:https://www.picchiorosso.org/event/la-passeggiata-dei-tre-boschi-e-2
CATEGORIES:Escursioni giornaliere
ATTACH;FMTTYPE=image/jpeg:https://www.picchiorosso.org/wp-content/uploads/2019/07/Altino.jpg
END:VEVENT
BEGIN:VEVENT
DTSTART;TZID=UTC:20260104T090000
DTEND;TZID=UTC:20260104T150000
DTSTAMP:20260421T020443
CREATED:20200114T204051Z
LAST-MODIFIED:20251225T155749Z
UID:1342-1767517200-1767538800@www.picchiorosso.org
SUMMARY:Anello della Val Canatra + lenticchia e pecorini (E)
DESCRIPTION:Cammineremo (o ciaspoleremo) in un paesaggio solitario di una valle poco nota\, la Valle Canatra\, dove si può ripercorrere il lungo tragitto che i pastori e le greggi compivano durante la transumanza per raggiungere in inverno i pascoli della Maremma. Ma non si è mai veramente soli\, perchè nascoste sotto i rami dei faggi maestosi potrebbero ancora esserci fate e sibille! \n\n\n\n\n\n\n\nAl termine faremo tappa a Castelluccio per un “terzo tempo” a base di salumi\, formaggi e per chi vuole anche un bel piatto di lenticchie calde… \n\n\n\n\n\n\n\nCome d’abitudine\, il vin brulè lo offre la guida! \n\n\n\nDATI ESCURSIONE– Itinerario: ad Anello– Lunghezza: 10 Km – Durata\, soste escluse: 3\,5 h– Rientro previsto: ore 14\,30 circa– Livello Escursione: E – Dislivello 270m– Adatta ai bambini dai 10 anni– Cani ammessi. \n\n\n\n\n\n\n\nSe si ciaspolerà\, la guida dispone di 12 paia da noleggiare  (+5 Euro) che saranno usate in ordine di prenotazione fino ad esaurimento \n\n\n\nPROGRAMMA DELLA GIORNATARitrovi:– Ore 8:30 bar “il Navigante”\, Castelsantangelo sul NeraDa qui raggiungeremo la piana e il punto di partenza dell’escursione (ore 9 circa) \n\n\n\nEQUIPAGGIAMENTO OBBLIGATORIOScarpe da trekking \, abbigliamento a strati adatto ad un clima invernale\, impermeabile/k-way\, guanti e cappello o cuffia\, acqua almeno mezzo litro a testa\, pranzo al sacco. In caso di ciaspolata abbigliamento da sci/fondo e scarponi impermeabili (non moonboot o doposci). \n\n\n\nEQUIPAGGIAMENTO CONSIGLIATO:Bastoncini da trekking\, occhiali da sole\, snack dolci e/o frutta secca\, un ricambio da tenere in auto. \n\n\n\nCOME PARTECIPAREPer partecipare all’ escursione è obbligatoria la prenotazione (non è sufficiente il “parteciperò” su facebook)\, comunicando nominativo e numero partecipanti\, tramite: \n\n\n\ntelefono o whatsapp: 366 2263994 (Rodolfo) \n\n\n\nQUOTA DI PARTECIPAZIONE:€ 15 \n\n\n\nLa quota comprende: Guida Ambientale Escursionistica iscritta AIGAE con assicurazione RCT. Facoltativa assicurazione infortuni (+€1.30) da richiedere al momento della prenotazione.
URL:https://www.picchiorosso.org/event/anello-della-val-canatra-lenticchia-e-pecorini-e
CATEGORIES:Escursioni giornaliere
ATTACH;FMTTYPE=image/png:https://www.picchiorosso.org/wp-content/uploads/2020/01/image-2.png
END:VEVENT
BEGIN:VEVENT
DTSTART;TZID=UTC:20260201T090000
DTEND;TZID=UTC:20260201T150000
DTSTAMP:20260421T020443
CREATED:20240122T213116Z
LAST-MODIFIED:20260126T104614Z
UID:1841-1769936400-1769958000@www.picchiorosso.org
SUMMARY:Appennino perduto: l'anello di Piandelloro (E)
DESCRIPTION:L’ Appennino perduto è un meraviglioso angolo di mondo delimitato a nord dal Fluvione e a sud dal Tronto\, all’ombra del monte Ceresa. \n\n\n\nAll’origine del nome sinistro un lungo processo di spopolamento che oggi restituisce un territorio costellato da una miriade di paesi fantasma arroccati sulle alture e insediamenti rupestri\, il tutto perfettamente incastonato in un ambiente naturale di grande suggestione. \n\n\n\nDomenica 28 Gennaio ci aspetta un anello fantastico\, che parte da una frazione quasi completamente deserta per poi portarci a borghi che sono stati completamente abbandonati. \n\n\n\nIl sentiero procede per molte parti su panoramicissime terrazze naturali di arenaria\, offrendo viste meravigliose verso i monti della Laga e fino al Gran Sasso e oltre. \n\n\n\nDATI ESCURSIONE– Itinerario: Anello– Lunghezza: 8 Km– Durata\, soste escluse: 2\,5 h– Rientro previsto: ore 15.00 circa– Livello Escursione: E– Dislivello 270m– Adatta ai bambini di ogni età– Cani ammessi. \n\n\n\nPROGRAMMA DELLA GIORNATARitrovi:– Ore 8:30 Pasticceria Mariotti\, Roccafluvione (saranno fornite coordinate google maps).Da qui raggiungeremo il luogo di partenza \n\n\n\nEQUIPAGGIAMENTOScarpe da trekking\, abbigliamento a strati\, impermeabile/k-way\, cappello\, acqua almeno un litro a testa. \n\n\n\nEQUIPAGGIAMENTO CONSIGLIATO:Bastoncini da trekking\, snack dolci e/o frutta secca\, un ricambio da tenere in auto.COME PARTECIPAREPer partecipare all’ escursione è obbligatoria la prenotazione (non è sufficiente il “parteciperò” su facebook)\, comunicando nominativo e numero partecipanti\, tramite:telefono o whatsapp: 366 2263994 (Rodolfo)mail: escursioni@picchiorosso.org \n\n\n\nQUOTA DI PARTECIPAZIONE:€ 15Minorenni gratis \n\n\n\nChi guiderà:Rodolfo\, Guida Ambientale escursionistica iscritta AIGAE (numero iscrizione MR203)\, coperto da assicurazione RCT.
URL:https://www.picchiorosso.org/event/appennino-perduto-lanello-di-piandelloro-e-2
CATEGORIES:Escursioni giornaliere
ATTACH;FMTTYPE=image/png:https://www.picchiorosso.org/wp-content/uploads/2022/02/piandelloro.png
END:VEVENT
BEGIN:VEVENT
DTSTART;TZID=UTC:20260425T090000
DTEND;TZID=UTC:20260425T160000
DTSTAMP:20260421T020443
CREATED:20220213T220254Z
LAST-MODIFIED:20260419T144536Z
UID:1567-1777107600-1777132800@www.picchiorosso.org
SUMMARY:Appennino perduto: I vertiginosi affacci di Pizzo dell'Arco e il canyon di Sasso Spaccato (E)
DESCRIPTION:L’Appennino perduto è un meraviglioso angolo di mondo delimitato a nord dal Fluvione e a sud dal Tronto\, all’ombra del monte Ceresa. \n\n\n\nAll’origine del nome sinistro un lungoprocesso di spopolamento che oggi restituisce un territorio costellato da una miriade di paesi fantasma arroccati sulle alture e insediamenti rupestri\, il tutto perfettamente incastonato in un ambiente naturale di grande suggestione. \n\n\n\nFaremo un anello di quelli che lasciano ricordi indelebili! Saliremo fino al magnifico affaccio panoramico di Pizzo dell’Arco\, indubbiamente il più suggestivo ed emozionante di tutto il gruppo montuoso! \n\n\n\nVertiginosi affacci di arenaria con viste sulla valle del Tronto e sulle frazioni sottostanti\, con panorami che si spingono fin sulla Laga e verso il Gran Sasso. \n\n\n\nAttraversando rigogliosi boschi di castagno secolari arriveremo poi al famoso sito della Tassinara\, anche detto “Sasso Spaccato”\, una profonda fenditura nella montagna con pareti lisce e a picco\, su cui ancora sono visibili incisioni di varie epoche. \n\n\n\nDATI ESCURSIONE– Itinerario: Anello– Lunghezza: 8\,5 Km– Durata\, soste escluse: 3\,5 h– Rientro previsto: ore 15:30 circa– Livello Escursione: E– Dislivello 500m– Adatta ai bambini dagli 11 anni– Cani ammessi. \n\n\n\nPROGRAMMA DELLA GIORNATARitrovi:– Ore 8:30 Stazione di servizio / bar ENI – Via Salaria\, Acquasanta Terme AP (saranno fornite coordinate google maps)Da qui raggiungeremo il luogo di partenza (15 min di auto) \n\n\n\nEQUIPAGGIAMENTOScarpe da trekking\, abbigliamento a strati\, impermeabile/k-way\, cappello\, acqua almeno un litro a testa. \n\n\n\nEQUIPAGGIAMENTO CONSIGLIATO:Bastoncini da trekking\, snack dolci e/o frutta secca\, un ricambio da tenere in auto. \n\n\n\nCOME PARTECIPAREPer partecipare all’ escursione è obbligatoria la prenotazione (non è sufficiente il “parteciperò” su facebook)\, comunicando nominativo e numero partecipanti\, tramite:telefono o whatsapp: 366 2263994 (Rodolfo)mail: escursioni@picchiorosso.org \n\n\n\nQUOTA DI PARTECIPAZIONE:€ 15Minorenni gratis \n\n\n\nChi guiderà:Rodolfo\, Guida Ambientale escursionistica iscritta AIGAE (numero iscrizione MR203)\, coperto da assicurazione RCT. 
URL:https://www.picchiorosso.org/event/appennino-perduto-i-vertiginosi-affacci-di-pizzo-dellarco-e-il-canyon-di-sasso-spaccato
CATEGORIES:Escursioni giornaliere
ATTACH;FMTTYPE=image/png:https://www.picchiorosso.org/wp-content/uploads/2022/02/Pizzo-dell-arco.png
END:VEVENT
BEGIN:VEVENT
DTSTART;TZID=UTC:20260621T080000
DTEND;TZID=UTC:20260621T173000
DTSTAMP:20260421T020443
CREATED:20230322T144122Z
LAST-MODIFIED:20260419T151021Z
UID:1739-1782028800-1782063000@www.picchiorosso.org
SUMMARY:La grande traversata dei Sibillini per la valle del lago (E)
DESCRIPTION:Certo non servono presentazioni per il Lago di Pilato. E’ l’itinerario dei Sibillini più conosciuto. Ma arrivarci non è facile.Noi rivisiteremo questo grande classico con una forma inusuale. \n\n\n\nCi troveremo a Foce di Montemonaco\, da dove parte la salita classica. Ma invece di avviarci\, saliremo su un autobus che ci porterà a Castelluccio di Norcia. \n\n\n\nE’ da qui infatti che partiremo\, per una via che presenta un dislivello e una fatica molto minori.Passeremo per luoghi meravigliosi e ci godremo il panorama della valle del lago dall’alto. \n\n\n\nPoi\, una volta a destinazione\, invece di riprendere la stessa via o chiudere un anello\, scenderemo per la valle in piena fioritura fino a Foce\, dove ci saranno le nostre auto ad attenderci. \n\n\n\nSe non hai mai visto il lago ma non te la senti di affrontare la salita classica con oltre 1000m di dislivello\, o se ci sei già stato/a e vuoi una prospettiva diversa e un itinerario che guarda “sempre avanti”\, questa è la tua occasione! \n\n\n\nDATI ESCURSIONE– Itinerario: Traversata– Lunghezza: 15\,6 Km– Durata\, soste escluse: 7h– Rientro previsto: ore 17:30 circa– Livello Escursione: E– Dislivello 650m– Adatta ai bambini dai 13 anni– Cani non ammessi. \n\n\n\nPROGRAMMA DELLA GIORNATA– Ore 7:30 ritrovo a foce di Montemonaco– Ore 7:50 Trasferimento in bus a Castelluccio– Ore 9:00 partenza escursione \n\n\n\n \n\n\n\nEQUIPAGGIAMENTOScarponcini da trekking \, impermeabile/k-way\, felpa o giacca pesante\, cappellino\, crema solare\, occhiali da sole\, pranzo al sacco\, acqua 1.5 litri a testa. \n\n\n\nEQUIPAGGIAMENTO CONSIGLIATO:Abbigliamento a strati\, bastoncini da trekking\, snack dolci e/o frutta secca\, macchina fotografica\, un ricambio da tenere in auto. \n\n\n\nCOME PARTECIPAREPer partecipare all’ escursione è obbligatoria la prenotazione (non è sufficiente il “parteciperò” su facebook)\, comunicando nominativo e numero partecipanti\, tramite:telefono o whatsapp: 366 2263994 (Rodolfo)mail: escursioni@picchiorosso.org \n\n\n\nQUOTA DI PARTECIPAZIONE:adulti € 15 \n\n\n\nAutobus Euro 12 a testa da pagare direttamente all’autista. \n\n\n\nPer i minorenni l’escursione è gratis\, pagano solo il bus. \n\n\n\nChi sarà la guida:Rodolfo\, Guida Ambientale Escursionistica iscritta AIGAE con assicurazione RCT.
URL:https://www.picchiorosso.org/event/la-grande-traversata-dei-sibillini-per-la-valle-del-lago-e
CATEGORIES:Escursioni giornaliere
ATTACH;FMTTYPE=image/png:https://www.picchiorosso.org/wp-content/uploads/2023/03/pilato_2.png
END:VEVENT
BEGIN:VEVENT
DTSTART;TZID=UTC:20260628T090000
DTEND;TZID=UTC:20260628T170000
DTSTAMP:20260421T020443
CREATED:20220501T124024Z
LAST-MODIFIED:20260419T155354Z
UID:1628-1782637200-1782666000@www.picchiorosso.org
SUMMARY:L' anello delle cime dei Monti della Laga (E)
DESCRIPTION:Tre cime oltre i 2000 metri\, le sorgenti del Tordino\, il bosco della Cavata\, viste assurde sui Sibillini e sul Gran Sasso. Il tutto con un punto di partenza scelto in modo da essere già a una bella quota e quindi con una passeggiata alla portata di tutti. Cosa si può chiedere di più?Vieni a trascorrere una giornata memorabile con i monti della Laga colorati dei loro caldi toni estivi! \n\n\n\n\n\n\nDATI ESCURSIONE– Itinerario: Anello– Lunghezza: 16\,5 Km– Durata\, soste escluse: 6h– Rientro previsto: ore 18.30 circa– Livello Escursione: E– Dislivello 650m– Adatto ai bambini dai 12 anni– Cani ammessi. \n\n\n\nPROGRAMMA DELLA GIORNATARitrovi:– Ore 8:30 Ceppo\, frazione di Rocca Santa Maria\, TE (Saranno fornite coordinate google maps precise) \n\n\n\nEQUIPAGGIAMENTOScarponcini da trekking \, impermeabile/k-way\, cappellino\, crema solare\, occhiali da sole\, pranzo al sacco\, acqua 2 litri a testa. \n\n\n\n\n\n\nEQUIPAGGIAMENTO CONSIGLIATO:Maglia a manica lunga\, guanti e cuffia\, bastoncini da trekking\, snack dolci e/o frutta secca\, macchina fotografica\, un ricambio da tenere in auto. \n\n\n\n\n\n\n \n\n\n\n \n\n\n\n \n\n\n\nCOME PARTECIPAREPer partecipare all’ escursione è obbligatoria la prenotazione (non è sufficiente il “parteciperò” su facebook)\, comunicando nominativo e numero partecipanti\, tramite:elefono o whatsapp: 366 2263994 (Rodolfo)mail: escursioni@picchiorosso.org \n\n\n\nQUOTA DI PARTECIPAZIONE:Adulti € 15Minorenni gratis \n\n\n\nCHI GUIDERA’Rodolfo\, Guida Ambientale escursionistica iscritta AIGAE (numero iscrizione MR203)\, coperto da assicurazione RCT.
URL:https://www.picchiorosso.org/event/il-grande-anello-delle-cime-dei-monti-della-laga-e
CATEGORIES:Escursioni giornaliere
ATTACH;FMTTYPE=image/png:https://www.picchiorosso.org/wp-content/uploads/2021/09/Pizzo-di-Moscio.png
END:VEVENT
BEGIN:VEVENT
DTSTART;TZID=UTC:20260815T083000
DTEND;TZID=UTC:20260815T180000
DTSTAMP:20260421T020443
CREATED:20220501T190555Z
LAST-MODIFIED:20260419T150152Z
UID:1630-1786782600-1786816800@www.picchiorosso.org
SUMMARY:Grande anello del Volubrio: all'eremo di S. Leonardo per l'antica via della Samara (EE)
DESCRIPTION:I sentieri che oggi usiamo per goderci lo splendore delle nostre meravigliose montagne non sono nati per questo scopo. \n\n\n\nAnticamente avevano una funzione importantissima di collegamento tra i vari casali usati dai pastori come riparo in alta quota\, e come collegamento tra i vari borghi e frazioni. \n\n\n\nOggi noi possiamo raggiungere l’eremo di S. Leonardo attraverso una comoda via che grazie a qualche ponticello attraversa la gola nel suo tratto più stretto. Ma questa via “moderna” non era praticata fino alla sua costruzione nel 1820.Prima di allora\, uno dei percorsi principali per raggiungere l’alta valle del Tenna passava da Vetice per la lecceta della Samara\, e poi scendeva dove oggi si trova l’eremo arrivandoci dall’alto. \n\n\n\nNoi percorreremo questo antico sentiero\, con una piccola deviazione che ci permetterà anche di visitare la cascata del Rio\, per poi uscire attraverso la nuova strada dalla gola dell’Infernaccio e chiudere il meraviglioso anello. \n\n\n\nLungo la via\, alzandosi di quota\, resteremo a bocca aperta per i meravigliosi panorami sulla valle del Tenna e l’insolito punto di vista\, con la chiesa prima lontano puntino nel verde\, poi sempre più vicina.Un giro inedito\, per chi vuole entrare nelle profondità più nascoste di questi luoghi! \n\n\n\nDATI ESCURSIONE– Itinerario: Ad anello– Lunghezza: 16 Km– Durata\, soste escluse: 8h– Rientro previsto: ore 18 circa– Livello Escursione: EE– Dislivello 750m– Non adatta ai bambini– Cani non ammessi. \n\n\n\nPROGRAMMA DELLA GIORNATARitrovi:– Ore 8:30 Bar “Fonte della valle”\, Montefortino.Da qui procederemo insieme al luogo di partenza dell’escursione. \n\n\n\nEQUIPAGGIAMENTOScarponcini da trekking \, impermeabile/k-way\, cappellino\, crema solare\, occhiali da sole\, pranzo al sacco\, acqua. \n\n\n\nEQUIPAGGIAMENTO CONSIGLIATO:Maglia a manica lunga\, bastoncini da trekking\, snack dolci e/o frutta secca\, macchina fotografica\, un ricambio da tenere in auto. \n\n\n\nCOME PARTECIPAREPer partecipare all’ escursione è obbligatoria la prenotazione (non è sufficiente il “parteciperò” su facebook)\, comunicando nominativo e numero partecipanti\, tramite:telefono o whatsapp: 366 2263994 (Rodolfo)mail: escursioni@picchiorosso.org \n\n\n\nQUOTA DI PARTECIPAZIONE:€ 15Chi guiderà:Rodolfo\, Guida Ambientale escursionistica iscritta AIGAE (numero iscrizione MR203)\, coperto da assicurazione RCT.
URL:https://www.picchiorosso.org/event/grande-anello-del-volubrio-alleremo-di-s-leonardo-per-lantica-via-della-samara-ee
CATEGORIES:Escursioni giornaliere
ATTACH;FMTTYPE=image/png:https://www.picchiorosso.org/wp-content/uploads/2022/05/eremo-dalla-samara.png
END:VEVENT
END:VCALENDAR