BEGIN:VCALENDAR
VERSION:2.0
PRODID:-//Picchio Rosso - ECPv6.15.20//NONSGML v1.0//EN
CALSCALE:GREGORIAN
METHOD:PUBLISH
X-ORIGINAL-URL:https://www.picchiorosso.org
X-WR-CALDESC:Eventi per Picchio Rosso
REFRESH-INTERVAL;VALUE=DURATION:PT1H
X-Robots-Tag:noindex
X-PUBLISHED-TTL:PT1H
BEGIN:VTIMEZONE
TZID:UTC
BEGIN:STANDARD
TZOFFSETFROM:+0000
TZOFFSETTO:+0000
TZNAME:UTC
DTSTART:20240101T000000
END:STANDARD
END:VTIMEZONE
BEGIN:VEVENT
DTSTART;TZID=UTC:20250126T090000
DTEND;TZID=UTC:20250126T130000
DTSTAMP:20260421T110551
CREATED:20240210T140658Z
LAST-MODIFIED:20250121T161500Z
UID:1853-1737882000-1737896400@www.picchiorosso.org
SUMMARY:L' anello di Casale Vecchio (T/E)
DESCRIPTION:Se i Sibillini sono come li vediamo oggi\, è anche perchè un giorno di quasi 100 anni fa\, la Storia è cambiata all’improvviso.Il protagonista di questa escursione sarà proprio lei\, la Storia. La storia della vita ai piedi della montagna più alta. La storia delle risorse che forniva. Delle vite che nutriva. Delle vite che toglieva.La storia di un piccolo borgo che non esiste più.Perchè sulla carta c’è un paese chiamato “Casale nuovo”.Ma allora da qualche parte deve\, o almeno doveva\, esserci “Casale vecchio”.Ti incuriosisce la sua storia? Vieni a scoprirla con questa comoda e facile passeggiata\, adatta a tutti. \n\n\n\nDATI ESCURSIONE– Itinerario: Anello– Lunghezza: 5\,5 Km– Durata\, soste escluse: 2 h– Rientro previsto: ore 13 circa (per il pranzo)– Livello Escursione: T/E– Dislivello 200m– Adatta ai bambini di qualunque età– Cani ammessi. \n\n\n\nPROGRAMMA DELLA GIORNATARitrovi:– Ore 8:45 rifugio “Cantantonella”\, Astorara di Montegallo– Partenza escursione ore 9 dallo stesso punto.– Ore 13 circa: rientro e pranzo. \n\n\n\nEQUIPAGGIAMENTO OBBLIGATORIOScarpe da trekking\, abbigliamento a strati\, impermeabile/k-way\, cappello\, acqua almeno un litro a testa\, giacca pesante guanti e cuffia. \n\n\n\nEQUIPAGGIAMENTO CONSIGLIATO:Bastoncini da trekking\, occhiali da sole\, snack dolci e/o frutta secca\, un ricambio da tenere in auto. \n\n\n\nCOME PARTECIPAREPer partecipare all’ escursione è obbligatoria la prenotazione (non è sufficiente il “parteciperò” su facebook)\, comunicando nominativo e numero partecipanti\, tramite:telefono o whatsapp: 366 2263994 (Rodolfo)mail: escursioni@picchiorosso.org \n\n\n\nQUOTA DI PARTECIPAZIONE:€ 15 \n\n\n\nPranzo (facoltativo) € 25 (Antipasto\, primo\, secondo\, acqua\, vino\, caffè) \n\n\n\nChi guiderà:Rodolfo\, Guida Ambientale escursionistica iscritta AIGAE (numero iscrizione MR203)\, coperto da assicurazione RCT.
URL:https://www.picchiorosso.org/event/l-anello-di-casale-vecchio-t-e
CATEGORIES:Escursioni giornaliere,T - Turistico
ATTACH;FMTTYPE=image/png:https://www.picchiorosso.org/wp-content/uploads/2024/02/Astorara.png
END:VEVENT
END:VCALENDAR