BEGIN:VCALENDAR
VERSION:2.0
PRODID:-//Picchio Rosso - ECPv6.15.20//NONSGML v1.0//EN
CALSCALE:GREGORIAN
METHOD:PUBLISH
X-ORIGINAL-URL:https://www.picchiorosso.org
X-WR-CALDESC:Eventi per Picchio Rosso
REFRESH-INTERVAL;VALUE=DURATION:PT1H
X-Robots-Tag:noindex
X-PUBLISHED-TTL:PT1H
BEGIN:VTIMEZONE
TZID:UTC
BEGIN:STANDARD
TZOFFSETFROM:+0000
TZOFFSETTO:+0000
TZNAME:UTC
DTSTART:20240101T000000
END:STANDARD
END:VTIMEZONE
BEGIN:VEVENT
DTSTART;TZID=UTC:20250713T090000
DTEND;TZID=UTC:20250713T150000
DTSTAMP:20260421T003559
CREATED:20200804T202645Z
LAST-MODIFIED:20250624T103017Z
UID:1409-1752397200-1752418800@www.picchiorosso.org
SUMMARY:La gola\, l'eremo\, la cascata nascosta (E)
DESCRIPTION:La gola dell’infernaccio. \n\n\n\nUn luogo che porta nel nome gli strascichi di una storia antica fatta di pericoli e paure. La stretta via attraverso cui viandanti e mercanti erano costretti a passare per raggiungere le terre a ovest delle montagne\, insidiosa e frequentata da predoni e briganti. \n\n\n\n\n\n\nLa attraverseremo camminando accanto al fiume\, in una stretta forra riparata dal sole e rinfrescata dalla acque del fiume Tenna\, sfuggendo al gran caldo per poi arrivare ad una delle più belle faggete delle Marche\, fatta di alberi altissimi ed antichi\, che ci accompagnerà silenziosa fino all’Eremo di S. Leonardo\, con la sua storia antica fatta di pellegrini ed eremiti\, e quella moderna fatta di sudore\, fede e duro lavoro. \n\n\n\nMa non finisce qui. Dall’eremo\, con cira 30-40 minuti di camminata\, ci recheremo alla cascata delle pisciarelle\, quella che tutti conoscono come “Cascata nascosta del Rio”.  \n\n\n\n\n\n\n \n\n\n\nUn itinerario imperdibile per chiunque visiti il parco dei Sibillini.  \n\n\n\nDATI ESCURSIONE– Itinerario: andata e ritorno– Lunghezza: 6 Km– Durata\, soste escluse: 2\,5 h– Rientro previsto: ore 15 circa– Livello Escursione: T/E– Dislivello 150 m– Adatta ai bambini– Cani ammessi. \n\n\n\nPROGRAMMA DELLA GIORNATARitrovi:– Ore 8:30 Piazza di Amandola (saranno fornite coordinate google maps precise) \n\n\n\n \n\n\n\nEQUIPAGGIAMENTOScarpe da trekking\, acqua\, pranzo al sacco\, \n\n\n\nEQUIPAGGIAMENTO CONSIGLIATO:Bastoncini da trekking\, k-way o impermeabile\, snack dolci e/o frutta secca\,un ricambio da tenere in auto. \n\n\n\nCOME PARTECIPAREPer partecipare all’ escursione è obbligatoria la prenotazione (non è sufficiente il “parteciperò” su facebook)\, comunicando nominativo e numero partecipanti\, tramite: \n\n\n\ntelefono o whatsapp: 366 2263994 (Rodolfo)mail: escursioni@picchiorosso.org \n\n\n\nQUOTA DI PARTECIPAZIONE:€ 15 adultiMinorenni gratis \n\n\n\nChi guiderà:Rodolfo\, Guida Ambientale escursionistica iscritta AIGAE (numero iscrizione MR203)\, coperto da assicurazione RCT.
URL:https://www.picchiorosso.org/event/la-gola-dellinfernaccio-e-leremo-di-s-leonardo-e-3
CATEGORIES:Escursioni giornaliere
ATTACH;FMTTYPE=image/jpeg:https://www.picchiorosso.org/wp-content/uploads/2020/08/PISCIARELLE.jpg
END:VEVENT
END:VCALENDAR