BEGIN:VCALENDAR
VERSION:2.0
PRODID:-//Picchio Rosso - ECPv6.15.20//NONSGML v1.0//EN
CALSCALE:GREGORIAN
METHOD:PUBLISH
X-ORIGINAL-URL:https://www.picchiorosso.org
X-WR-CALDESC:Eventi per Picchio Rosso
REFRESH-INTERVAL;VALUE=DURATION:PT1H
X-Robots-Tag:noindex
X-PUBLISHED-TTL:PT1H
BEGIN:VTIMEZONE
TZID:UTC
BEGIN:STANDARD
TZOFFSETFROM:+0000
TZOFFSETTO:+0000
TZNAME:UTC
DTSTART:20240101T000000
END:STANDARD
END:VTIMEZONE
BEGIN:VEVENT
DTSTART;TZID=UTC:20250720T083000
DTEND;TZID=UTC:20250720T173000
DTSTAMP:20260421T003452
CREATED:20230801T101055Z
LAST-MODIFIED:20250710T125114Z
UID:1800-1753000200-1753032600@www.picchiorosso.org
SUMMARY:La Sala del Trono\, il gioiello nascosto dei Sibillini
DESCRIPTION:ATTENZIONE LEGGERE CON ATTENZIONE LA SCHEDA! \n\n\n\n– al raggiungimento di TREDICI partecipanti non saranno accettate ulteriori iscrizioni. \n\n\n\nLa Sala del Trono è una forra di dimensioni ciclopiche\, all’ interno della serie di gole che segnano l’alta valle dell’ Ambro. Per arrivarci servono piede fermi\, agilità e il non soffrire di vertigini. Ma nulla\, nulla davvero\, rivaleggia con la sua maestosa bellezza. \n\n\n\nPartiremo di buon ora\, incamminandoci nel fresco del mattino per l’antica faggeta ad alto fusto della val d’ Ambro. Qui visiteremo Prato le rovine di un piccolo insediamento nel mezzo del bosco\, che fino a tempi recenti ha dato vita e sostentamento agli abitanti della zona. \n\n\n\nDa qui ci aspetta un avventuroso tratto tra enormi massi\, tronchi caduti e ostacoli da superare. La ricompensa sarà qualcosa che vi lascerà senza fiato. \n\n\n\nDATI ESCURSIONE– Lunghezza: 10 Km– Durata\, soste escluse: 5h– Rientro previsto: ore 16:30 circa– Livello Escursione: EE – adatta a ESCURISONISTI ESPERTI. Il percorso presenta tratti esposti. Non adatto a chi soffre di vertigini. Per raggiungere la Sala del Trono è necessario salire su dei massi con l’ausilio di brevi ausili. Non adatto a persone in forte sovrappeso. Necessario un minimo di agilità.– Dislivello 600m– Età minima 18 anni– Cani non ammessi \n\n\n\nA ciascun partecipante\, se non già dotato del proprio\, verrà fornito gratuitamente un casco protettivo omologato a norma di legge\, preventivamente igienizzato. \n\n\n\nPROGRAMMA DELLA GIORNATARitrovi:- Ore 08:00 Piazza centrale\, AmandolaPartenza Escursione ore 8:30 \n\n\n\nEQUIPAGGIAMENTOScarponcini da trekking rigorosamente alti\, pantaloni lunghi\, maglie a manica corta e lunga\, acqua almeno 1 litro a testa. \n\n\n\nEQUIPAGGIAMENTO CONSIGLIATO:Impermeabile\, bastoncini da trekking\, snack dolci e/o frutta secca\, macchina fotografica\, un ricambio da tenere in auto. \n\n\n\nCOME PARTECIPAREPer partecipare all’ escursione è obbligatoria la prenotazione (non è sufficiente il “parteciperò” su facebook)\, comunicando nominativo e numero partecipanti\, tramite: telefono o whatsapp: 366 2263994 (Rodolfo) o mail: escursioni@picchiorosso.org \n\n\n\nQUOTA DI PARTECIPAZIONE: € 25
URL:https://www.picchiorosso.org/event/la-sala-del-trono-il-gioiello-nascosto-dei-sibillini-ee-4
CATEGORIES:Escursioni giornaliere
ATTACH;FMTTYPE=image/jpeg:https://www.picchiorosso.org/wp-content/uploads/2021/07/20210724_110730-scaled.jpg
END:VEVENT
END:VCALENDAR