BEGIN:VCALENDAR
VERSION:2.0
PRODID:-//Picchio Rosso - ECPv6.15.20//NONSGML v1.0//EN
CALSCALE:GREGORIAN
METHOD:PUBLISH
X-ORIGINAL-URL:https://www.picchiorosso.org
X-WR-CALDESC:Eventi per Picchio Rosso
REFRESH-INTERVAL;VALUE=DURATION:PT1H
X-Robots-Tag:noindex
X-PUBLISHED-TTL:PT1H
BEGIN:VTIMEZONE
TZID:UTC
BEGIN:STANDARD
TZOFFSETFROM:+0000
TZOFFSETTO:+0000
TZNAME:UTC
DTSTART:20180101T000000
END:STANDARD
END:VTIMEZONE
BEGIN:VEVENT
DTSTART;TZID=UTC:20250810T003000
DTEND;TZID=UTC:20250810T090000
DTSTAMP:20260420T122111
CREATED:20200804T203739Z
LAST-MODIFIED:20250710T130946Z
UID:1418-1754785800-1754816400@www.picchiorosso.org
SUMMARY:Salita con la luna piena e alba sulla vetta della Sibilla (E)
DESCRIPTION:ALBA DI DOMENICA 10 AGOSTO (notte fra 9 e 10 Agosto) \n\n\n\n \n\n\n\nE’ tradizione per i ragazzi nelle Marche ad agosto aspettare un’alba in spiaggia. \n\n\n\nNoi rivivremo quella tradizione\, ma guardando le marche dall’alto dei 2.173 metri di altezza della montagna fatata. Lì arriveremo dopo un facile cammino notturno e ristorati da brioches\, biscotti e vin brulè (li portiano noi!) ammireremo paesaggi come quelli che vedete nella foto qui sopra\, con i paesini illuminati a mo’ di presepe. \n\n\n\nE poi la prima luce a est\, l’aria che si colora di blu e poi di arancione\, e il sole che sorge sul mare fin dove il nostro sguardo si spinge. \n\n\n\nRiposati e ristorati affronteremo la discesa dalla vetta della montagna misteriosa\, visiteremo l’antro dell’antica profetessa\, e una comoda strada bianca ci riporterà agevolmente a chiudere il più classico dei percorsi\, verso una giornata di relax. \n\n\n\nDATI ESCURSIONE– Itinerario: A/R– Lunghezza: 9 Km– Durata\, soste escluse: 4\,5h– Rientro previsto: ore 10 circa– Livello Escursione: E– Dislivello 450m– Adatto ai bambini dai 12 anni– Cani non ammessi. \n\n\n\nPROGRAMMA DELLA GIORNATARitrovi:– Ore 00:30 (mezzanotte e mezza) Montemonaco \n\n\n\nDa qui procederemo in minibus al rifugio Sibilla da cui avrà inizio l’escursione \n\n\n\nEQUIPAGGIAMENTOScarponcini da trekking \, pantaloni lunghi\, giacca a vento\, copricapo\, impermeabile/k-way\, Acqua 1\,5 l a testa \n\n\n\nCONSIGLIATI:Maglia/felpa a manica lunga\, bastoncini da trekking\, snack dolci e/o frutta secca\, macchina fotografica con treppiede\, un ricambio da tenere in auto. \n\n\n\nCOME PARTECIPAREPer partecipare all’escursione è obbligatoria la prenotazione (non è sufficiente il “parteciperò” su facebook)\, comunicando nominativo e numero partecipanti\, tramite: \n\n\n\ntelefono o whatsapp: 366 2263994 (Rodolfo)mail: escursioni@picchiorosso.org \n\n\n\nQUOTA DI PARTECIPAZIONE:€ 15 \n\n\n\nBiglietto minibus 7 Euro. \n\n\n\nChi guiderà:Rodolfo\, Guida Ambientale escursionistica iscritta AIGAE (numero iscrizione MR203)\, coperto da assicurazione RCT.
URL:https://www.picchiorosso.org/event/alba-sulla-vetta-della-sibilla-e
CATEGORIES:Notturna,Tramonti e albe
ATTACH;FMTTYPE=image/png:https://www.picchiorosso.org/wp-content/uploads/2019/06/DSC09396_web.png
END:VEVENT
BEGIN:VEVENT
DTSTART;TZID=UTC:20250215T163000
DTEND;TZID=UTC:20250215T193000
DTSTAMP:20260420T122111
CREATED:20250209T171307Z
LAST-MODIFIED:20250209T171308Z
UID:2104-1739637000-1739647800@www.picchiorosso.org
SUMMARY:Il tramonto degli innamorati (E)
DESCRIPTION:IN CASO DI NEVE l’escursione si trasforma in ciaspolata (con percorso più pianeggiante e più corto). La guida dispone di 12 paia di ciaspole da adulto e 3 paia da bambino da noleggiare (€5).——————————- \n\n\n\n \n\n\n\nUno spettacolare tramonto nel sabato che segue San Valentino e la festa degli innamorati. Aandiamo a godercelo sui pendii che portano al belvedere di Forca di Presta. Poi\, illuminati dalla sola luce della luna piena\, raggiungeremo il belvedere con un’agevole passeggiata. Il ritorno previsto per l’ora di cena vi lascerà il tempo di visitare Castelluccio di notte e farvi tentare dalle trattorie tipiche della zona! \n\n\n\nDATI ESCURSIONEItinerario: ad anelloLunghezza: 8 Km (5 in caso di ciaspolata)Durata\, soste escluse: 3hRientro previsto: ore 19:00 circaLivello Escursione: EDislivello 200mAdatta ai bambini di ogni etàCani ammessi. \n\n\n\nPROGRAMMA DELLA GIORNATARitrovi: Ore 16:00 a Forca di Presta \n\n\n\nEQUIPAGGIAMENTO:Scarpe da trekking alte \, abbigliamento invernale\, cuffia e guanti\, giacca a vento\, acqua 1 litro a testa. \n\n\n\nEQUIPAGGIAMENTO CONSIGLIATO: Impermeabile\, bastoncini da trekking\, snack dolci e/o frutta secca\, macchina fotografica\, un ricambio da tenere in auto. \n\n\n\nCOME PARTECIPAREPer partecipare all’ escursione è obbligatoria la prenotazione (non è sufficiente il “parteciperò” su facebook)\, comunicando nominativo e numero partecipanti\, tramite:telefono o whatsapp: 366 2263994 (Rodolfo)mail: escursioni@picchiorosso.org \n\n\n\nQUOTA DI PARTECIPAZIONE:€ 15 adultiMinorenni gratis \n\n\n\nChi guiderà:Rodolfo\, Guida Ambientale escursionistica iscritta AIGAE (numero iscrizione MR203)\, coperto da assicurazione RCT.
URL:https://www.picchiorosso.org/event/il-tramonto-degli-innamorati-e
CATEGORIES:Tramonti e albe
ATTACH;FMTTYPE=image/png:https://www.picchiorosso.org/wp-content/uploads/2020/01/001.png
END:VEVENT
BEGIN:VEVENT
DTSTART;TZID=UTC:20240720T190000
DTEND;TZID=UTC:20240720T233000
DTSTAMP:20260420T122111
CREATED:20210622T150419Z
LAST-MODIFIED:20240611T130209Z
UID:1477-1721502000-1721518200@www.picchiorosso.org
SUMMARY:Tramonto alle lame rosse e passeggiata alla luce della luna piena (E)
DESCRIPTION:Le Lame Rosse sono da sempre uno degli itinerari più frequentati nel Parco dei Sibillini. Il percorso per arrivarci è facile e non rpesenta ostacoli particolari.Si svolge però in un versante esposto a Sud che\, per via anche della quota non elevata\, d’estate raggiunge temperature poco piacevoli. \n\n\n\nNoi eviteremo la calura e faremo qualcosa di diverso e particolare: le raggiungeremo al calare della notte\, in una serata di plenilunio\, faremo cena illuminati dalla bianca luce lunare\, e poi ci godremo il rientro nel bosco al buio. \n\n\n\nQuesta passeggiata è ideale per chi vuole provare sensazioni nuove e insolite. Nell’oscurità i sensi si esaltano e i rumori del bosco\, dal canto dei rapaci notturni ai fruscii dei piccoli animali\, vengono amplificati. \n\n\n\nE’ un’esperienza nuova per moltissimi adulti\, che i ragazzi adorano. \n\n\n\nDATI ESCURSIONE– Itinerario: A/R– Lunghezza: 7 Km– Durata\, soste escluse: 3h– Rientro previsto: ore 23:45 circa– Livello Escursione: E– Dislivello 250m– Adatto ai bambini dai 6 anni)– Cani ammessi. \n\n\n\nPROGRAMMA DELLA GIORNATARitrovi:– Ore 19:00 bar “Il gatto e la Volpe”\, Fiastra. Verrà fornita posizione google maps. \n\n\n\nEQUIPAGGIAMENTOScarponcini da trekking \, impermeabile/k-way\, cappellino\, pranzo al sacco\, acqua 1.5 litri a testa. \n\n\n\nEQUIPAGGIAMENTO CONSIGLIATO:Maglia a manica lunga\, bastoncini da trekking\, snack dolci e/o frutta secca\, macchina fotografica\, un ricambio da tenere in auto. \n\n\n\nCOME PARTECIPAREPer partecipare all’ escursione è obbligatoria la prenotazione (non è sufficiente il “parteciperò” su facebook)\, comunicando nominativo e numero partecipanti\, tramite:elefono o whatsapp: 366 2263994 (Rodolfo)mail: escursioni@picchiorosso.org \n\n\n\nQUOTA DI PARTECIPAZIONE:€ 15 AdultiMinorenni gratis \n\n\n\nChi guiderà:Rodolfo\, Guida Ambientale escursionistica iscritta AIGAE (numero iscrizione MR203)\, coperto da assicurazione RCT.
URL:https://www.picchiorosso.org/event/tramonto-alle-lame-rosse-e-passeggiata-alla-luce-della-luna-piena-e
CATEGORIES:Notturna,Tramonti e albe
ATTACH;FMTTYPE=image/jpeg:https://www.picchiorosso.org/wp-content/uploads/2019/06/lamerosse_notturna.jpg
END:VEVENT
BEGIN:VEVENT
DTSTART;TZID=UTC:20231111T170000
DTEND;TZID=UTC:20231111T203000
DTSTAMP:20260420T122111
CREATED:20210622T144421Z
LAST-MODIFIED:20231024T160144Z
UID:1466-1699722000-1699734600@www.picchiorosso.org
SUMMARY:Le Leonidi: le stelle cadenti invernali. Passeggiata nel buio di una notte senza luna (T)
DESCRIPTION:Esiste un secondo sciame di meteore\, altrimenti note come “stelle cadenti”. Oltre a quelle che tutti conosciamo che arrivano intorno al 10 Agosto\, ce ne sono di altrettanto belle\, ma molto meno note\, intorno al 20 Novembre. La fortuna ci ha fatto avere una notte senza luna proprio in coincidenza con il loro picco. \n\n\n\nCammineremo nel silenzio del bosco notturno tra fruscii\, movimenti nella vegetazione\, versi di animali\, canti di uccelli notturni. \n\n\n\nE man mano che gli occhi si abituano al buio\, un cielo completamente diverso da quello cui siamo abituati fa la sua comparsa sopra le nostre teste. Una bianca striscia lucente lo attraversa completamente\, le stelle a cui siamo stati abituati a dare un nome spariscono annegate in un mare di astri luminosi. \n\n\n\nPer questa facile passeggiata abbiamo scelto un punto di osservazione ottimale\, lontano dall’inquinamento luminoso delle città\, con un percorso tranquillo e alla portata di tutti nella splendida cornice del lago di Fiastra. \n\n\n\nUn’esperienza sensoriale unica. A metà escursione faremo una pausa su un magnifico prato per ammirare il tramonto con vista sul lago di Fiastra\, con vin brulè per tutti. Qui un esperto astrofilo ci racconterà le meraviglie del cielo invernale\, e proveremo ad avvistale le Leonidi\, le stelle cadenti.Al ritorno una bellissima passeggiata lungo il lago! \n\n\n\nDATI ESCURSIONE– Itinerario: Anello– Lunghezza: 5 Km– Durata\, soste escluse: 2 h– Rientro previsto alle auto: ore 20:30 circa– Livello Escursione: T– Dislivello 200m– Adatta ai bambini di qualunque età– Cani ammessi. \n\n\n\nPROGRAMMA DELLA SERATARitrovi:– Ore 16:00 bar Il Gatto e la Volpe\, Fiastra. \n\n\n\nEQUIPAGGIAMENTOScarpe da trekking\, abbigliamento a strati invernale\, impermeabile/k-way\, cuffia e guanti\, acqua almeno un litro a testa. \n\n\n\nEQUIPAGGIAMENTO CONSIGLIATO:Bastoncini da trekking\, snack dolci e/o frutta secca\, un ricambio da tenere in auto. \n\n\n\nCOME PARTECIPAREPer partecipare all’ escursione è obbligatoria la prenotazione (non è sufficiente il “parteciperò” su facebook)\, comunicando nominativo e numero partecipanti\, tramite:telefono o whatsapp: 366 2263994 (Rodolfo)mail: escursioni@picchiorosso.org \n\n\n\nQUOTA DI PARTECIPAZIONE:Adulti € 15Minorenni gratis. 
URL:https://www.picchiorosso.org/event/la-via-lattea-a-occhio-nudo-passeggiata-nel-buio-di-una-notte-senza-luna-t-e
CATEGORIES:Notturna,Tramonti e albe
ATTACH;FMTTYPE=image/jpeg:https://www.picchiorosso.org/wp-content/uploads/2019/07/001.jpg
END:VEVENT
BEGIN:VEVENT
DTSTART;TZID=UTC:20250214T163000
DTEND;TZID=UTC:20250214T193000
DTSTAMP:20260420T122111
CREATED:20250215T163000Z
LAST-MODIFIED:20250209T171030Z
UID:1528-1739550600-1739561400@www.picchiorosso.org
SUMMARY:Il tramonto degli innamorati (E)
DESCRIPTION:IN CASO DI NEVE l’escursione si trasforma in ciaspolata (con percorso più pianeggiante e leggermente più corto). La guida dispone di 12 paia di ciaspole da adulto e 3 paia da bambino da noleggiare (€5).——————————- \n\n\n\n \n\n\n\nUno spettacolare tramonto nel sabato che segue San Valentino e la festa degli innamorati. Aandiamo a godercelo sui pendii che portano al belvedere di Forca di Presta. Poi\, illuminati dalla sola luce della luna piena\, raggiungeremo il belvedere con un’agevole passeggiata. Il ritorno previsto per l’ora di cena vi lascerà il tempo di visitare Castelluccio di notte e farvi tentare dalle trattorie tipiche della zona! \n\n\n\nDATI ESCURSIONEItinerario: ad anelloLunghezza: 8 Km (5 in caso di ciaspolata)Durata\, soste escluse: 3hRientro previsto: ore 19:00 circaLivello Escursione: EDislivello 200mAdatta ai bambini di ogni etàCani ammessi. \n\n\n\nPROGRAMMA DELLA GIORNATARitrovi: Ore 16:00 a Forca di Presta \n\n\n\nEQUIPAGGIAMENTO:Scarpe da trekking alte \, abbigliamento invernale\, cuffia e guanti\, giacca a vento\, acqua 1 litro a testa. \n\n\n\nEQUIPAGGIAMENTO CONSIGLIATO: Impermeabile\, bastoncini da trekking\, snack dolci e/o frutta secca\, macchina fotografica\, un ricambio da tenere in auto. \n\n\n\nCOME PARTECIPAREPer partecipare all’ escursione è obbligatoria la prenotazione (non è sufficiente il “parteciperò” su facebook)\, comunicando nominativo e numero partecipanti\, tramite:telefono o whatsapp: 366 2263994 (Rodolfo)mail: escursioni@picchiorosso.org \n\n\n\nQUOTA DI PARTECIPAZIONE:€ 15 adultiMinorenni gratis \n\n\n\nChi guiderà:Rodolfo\, Guida Ambientale escursionistica iscritta AIGAE (numero iscrizione MR203)\, coperto da assicurazione RCT.
URL:https://www.picchiorosso.org/event/il-tramonto-degli-innamorati
CATEGORIES:Notturna,Tramonti e albe
ATTACH;FMTTYPE=image/png:https://www.picchiorosso.org/wp-content/uploads/2020/01/001.png
END:VEVENT
BEGIN:VEVENT
DTSTART;TZID=UTC:20200704T180000
DTEND;TZID=UTC:20200704T223000
DTSTAMP:20260420T122111
CREATED:20200604T171142Z
LAST-MODIFIED:20200604T171145Z
UID:1375-1593885600-1593901800@www.picchiorosso.org
SUMMARY:Le lame rosse: tramonto e luna piena (E)
DESCRIPTION:Le lame rosse. Uno degli itinerari più conosciuti ed apprezzati dei Monti Sibillini\, la cui bellezza non ha bisogno di presentazioni. \n\n\n\nCi incammineremo lungo il lago di Fiastra poco prima del tramonto e poi\, dopo una passeggiata nel bosco\, le raggiungeremo ed ammireremo alla luce calante del sole ed attenderemo la luna quasi piena\, per una affascinante passeggiata nel bosco illuminati dalla sua luce. \n\n\n\nDATI ESCURSIONE– Itinerario: andata e ritorno– Lunghezza: 7 Km– Durata\, soste escluse: 3\,5 h– Rientro previsto: ore 14 circa– Livello Escursione: T– Dislivello 200m– Adatta ai bambini dagli 8 anni– Cani ammessi. \n\n\n\nPROGRAMMA DELLA GIORNATARitrovi:– Ore 18:00 bar ristorante “Il gatto e la volpe”\, Fiastra– Ore 18:30 partenza escursione \n\n\n\nEQUIPAGGIAMENTOScarpe da trekking \, impermeabile/k-way\, cappellino\, acqua 1 litro a testa\, cena al sacco\, una maglia pesante o una giacca. \n\n\n\nEQUIPAGGIAMENTO CONSIGLIATO:Bastoncini da trekking\, snack dolci e/o frutta secca\,un ricambio da tenere in auto. \n\n\n\nCOME PARTECIPAREPer partecipare all’ escursione è obbligatoria la prenotazione (non è sufficiente il “parteciperò” su facebook)\, comunicando nominativo e numero partecipanti\, tramite: \n\n\n\ntelefono o whatsapp: 366 2263994 (Rodolfo)mail: escursioni@picchiorosso.org \n\n\n\nQUOTA DI PARTECIPAZIONE:€ 15 adultiBambini sotto i 14 anni: gratis \n\n\n\nLa quota comprende: Guida Ambientale Escursionistica iscritta AIGAE con assicurazione RCT. Facoltativa assicurazione infortuni (+€1.30) da richiedere al momento della prenotazione. \n\n\n\nNOTALa guida è legittimata a variare gli itinerari\, anche in corso di svolgimento\, fino anche ad interrompere l’escursione\, allo scopo di tutelare la sicurezza del gruppo o di una sua parte. \n\n\n\nMISURE DI SICUREZZA COVID-19La guida farà avere a ciascun partecipante un elenco di accorgimenti da osservare in escursione e di dispositivi di protezione individuale e di igienizzazione aggiuntivi da avere con sè.Prima dell’escursione verranno ulteriormente ribadite le norme comportamentali di buon senso da osservare.
URL:https://www.picchiorosso.org/event/le-lame-rosse-tramonto-e-luna-piena-e
CATEGORIES:Notturna,Tramonti e albe
ATTACH;FMTTYPE=image/jpeg:https://www.picchiorosso.org/wp-content/uploads/2019/06/lamerosse_notturna.jpg
END:VEVENT
BEGIN:VEVENT
DTSTART;TZID=UTC:20190816T173000
DTEND;TZID=UTC:20190816T233000
DTSTAMP:20260420T122111
CREATED:20190807T160135Z
LAST-MODIFIED:20190807T160138Z
UID:1275-1565976600-1565998200@www.picchiorosso.org
SUMMARY:Tramonto sul Monte San Vicino (E)
DESCRIPTION:Il Monte san Vicino\, per la sua posizione più ad est rispetto agli appennini e la sua forma caratteristica\, è visibile e facilmente riconoscibile da tutte le Marche. Dalla sua vetta\, di conseguenza\, si può ammirare praticamente l’intera regione\, da Fano fino a San Benedetto del Tronto. \n\n\n\nNoi ci saliremo poco prima del tramonto e ai piedi della gigantesca croce sommitale ammireremo i colori sfumare verso il rosso fuoco prima ed il blu scuro poi\, fino alla comparsa delle costellazioni che dalle nostre città sono invisibili! \n\n\n\nDATI ESCURSIONE\n– Itinerario: andata e ritorno\n– Lunghezza: 3 Km\n– Durata\, soste escluse: 2 h\n– Rientro previsto: ore 23.00 circa\n– Livello Escursione: E\n– Dislivello 250 m\n– Adatta ai bambini\n– Cani ammessi. \n\n\n\nPROGRAMMA DELLA GIORNATA\nRitrovi:\n– Ore 17:00 San Severino Marche (saranno fornite coordinate google maps precise) \n\n\n\nEQUIPAGGIAMENTO\nScarpe da trekking\,  acqua 1 litro a testa\, cena al sacco\, giacca pesante\, pantaloni lunghi \n\n\n\nEQUIPAGGIAMENTO CONSIGLIATO:\nBastoncini da trekking\, snack dolci e/o frutta secca\,un ricambio da tenere in auto. \n\n\n\nCOME PARTECIPARE\nPer partecipare all’ escursione è obbligatoria la prenotazione (non è sufficiente il “parteciperò” su facebook)\, comunicando nominativo e numero partecipanti\, tramite: \n\n\n\ntelefono o whatsapp: 366 2263994 (Rodolfo)\nmail: escursioni@picchiorosso.org \n\n\n\nQUOTA DI PARTECIPAZIONE:\n€ 15 adulti\nBambini sotto i 14 anni: gratis \n\n\n\nLa quota comprende: Guida Ambientale Escursionistica iscritta AIGAE con assicurazione RCT. Facoltativa assicurazione infortuni (+€1.30) da richiedere al momento della prenotazione. \n\n\n\nNOTA\nLa guida è legittimata a variare gli itinerari\, anche in corso di svolgimento\, fino anche ad interrompere l’escursione\, allo scopo di tutelare la sicurezza del gruppo o di una sua parte.
URL:https://www.picchiorosso.org/event/tramonto-sul-monte-san-vicino-e
CATEGORIES:Escursioni giornaliere,Notturna,Tramonti e albe
ATTACH;FMTTYPE=image/jpeg:https://www.picchiorosso.org/wp-content/uploads/2019/08/sanvicinotramonto.jpg
END:VEVENT
BEGIN:VEVENT
DTSTART;TZID=UTC:20190809T193000
DTEND;TZID=UTC:20190813T233000
DTSTAMP:20260420T122111
CREATED:20190606T170332Z
LAST-MODIFIED:20190721T132305Z
UID:1102-1565379000-1565739000@www.picchiorosso.org
SUMMARY:FIASTRA - ESCURSIONE PANORAMICA TRAMONTO E FUOCHI D'ARTIFICIO - Livello E
DESCRIPTION:Si avvicina la notte di San Lorenzo e\, immancabili come sempre\, anche i bellissimi fuochi di artificio sul Lago di Fiastra. Anche quest’anno sono attesi migliaia di visitatori\, ma il luogo da cui vi faremo ammirare i fuochi sarà insolito e panoramico. \nInizieremo alle ore 19:30\, in modo da evitare le code\, con una escursione panoramica che ci farà ammirare Fiastra e il lago da una posizione elevata. Ammireremo il tramonto e ceneremo insieme\, poi accompagnati dai suoni misteriosi del bosco cammineremo in notturna per raggiungere il punto panoramico da cui ammireremo e fotograferemo lo spettacolo pirotecnico. \nSe vi piace la foto che fa da testata a questo evento\, venite con noi e potrete scattarne una ancora più bella. Vi saranno fornite indicazioni precise via mail per aiutarvi a scegliere quale attrezzatura portare. \nDATI ESCURSIONE\n– Itinerario: andata e ritorno\n– Lunghezza: 4 Km\n– Durata: 4h\n– Rientro previsto: ore 23:30 circa\n– Livello Escursione: E\n– Dislivello 200m\n– Adatta ai bambini dai 6 anni.\n– Cani ammessi. \nPROGRAMMA DELLA GIORNATA\nRitrovi:\n– Ore 17:30 Civitanova Marche\, Parcheggio GLOBO vicino uscita autostradale\n– Ore 19:00 bar “Il Gatto e la Volpe”\, San Lorenzo al Lago\, Fiastra.\n– Ore 19:30 partenza escursione. \nEQUIPAGGIAMENTO OBBLIGATORIO\nScarponcini da trekking \, impermeabile/k-way\, giacca pesante\, cena al sacco\, acqua 1 litro a testa. \nEQUIPAGGIAMENTO CONSIGLIATO:\nUna coperta o un telo per sedersi sull’erba\, bastoncini da trekking\, snack dolci e/o frutta secca\, macchina fotografica con treppiede\, un ricambio da tenere in auto. \nNOTA\nLa guida è legittimata a variare gli itinerari\, anche in corso di svolgimento\, fino anche ad interrompere l’escursione\, allo scopo di tutelare la sicurezza del gruppo o di una sua parte. \nCOME PARTECIPARE\nPer partecipare all’escursione è obbligatoria la prenotazione (non è sufficiente il “parteciperò” su facebook)\, comunicando nominativo e numero partecipanti\, tramite:\ntelefono o whatsapp: 366 2263994 (Rodolfo)\nmail: escursioni@picchiorosso.org \nQUOTA DI PARTECIPAZIONE:\n€ 10 \nLa quota comprende: Guida Ambientale Escursionistica iscritta AIGAE con assicurazione RCT. Facoltativa assicurazione infortuni (+€1.30) da richiedere al momento della prenotazione.
URL:https://www.picchiorosso.org/event/fiastra-escursione-panoramica-tramonto-e-fuochi-dartificio-livello-e
CATEGORIES:Notturna,Tramonti e albe
ATTACH;FMTTYPE=image/jpeg:https://www.picchiorosso.org/wp-content/uploads/2019/06/Fiastra_fuochi.jpg
END:VEVENT
BEGIN:VEVENT
DTSTART;TZID=UTC:20190713T180000
DTEND;TZID=UTC:20190714T000000
DTSTAMP:20260420T122111
CREATED:20190606T203440Z
LAST-MODIFIED:20190619T174237Z
UID:1105-1563040800-1563062400@www.picchiorosso.org
SUMMARY:TRAMONTO SUL MONTE AMANDOLA - Livello E
DESCRIPTION:Accompagnati da una bellissima e romantica luna piena\, ammireremo le Marche da una posizione di assoluto privilegio.\n\nSotto di noi in tutto il loro splendore i paesi e le città maggiori illumineranno l’orizzonte con le loro piccolissime luci come in un unico\, enorme presepe mentre lo sguardo si spinge fino al mare.\n\nPartiremo prima del tramonto in modo da poter cenare (al sacco) presso un antico casale dei pastori oggi magnificamente restaurato\, poi ci avvieremo verso il punto panoramico da cui godremo il lento svanire della luce alle nostre spalle\, mentre le colline sotto di noi si accendono e l’ambiente si colora del rosso del tramonto.\n\nDATI ESCURSIONE\n– Itinerario: andata e ritorno\n– Lunghezza: 10 Km\n– Durata (soste escluse): 4h\n– Rientro previsto: ore 00:00 circa\n– Livello Escursione: T\n– Dislivello 300m\n– Adatta ai bambini dai 8 anni.\n– Cani ammessi: sì.\n\nPROGRAMMA DELLA GIORNATA\nRitrovi:\n– Ore 16:00 Civitanova Marche\, Parcheggio GLOBO vicino uscita autostradale\n– Ore 17:30 parcheggio Pintura di Bolognola\n– Ore 18:00 partenza escursione.\n\nEQUIPAGGIAMENTO OBBLIGATORIO\nAbbigliamento a strati\, giacca pesante\, impermeabile/k-way\, cena al sacco\, acqua 1\,5 litri a testa.\n\nEQUIPAGGIAMENTO CONSIGLIATO:\nUna coperta o un telo per sedersi sull’erba\, bastoncini da trekking\, snack dolci e/o frutta secca\, macchina fotografica con treppiede\, binocolo\, un ricambio da tenere in auto.\n\nNOTA\nLa guida è legittimata a variare gli itinerari\, anche in corso di svolgimento\, fino anche ad interrompere l’escursione\, allo scopo di tutelare la sicurezza del gruppo o di una sua parte.\n\nCOME PARTECIPARE\nPer partecipare all’escursione è obbligatoria la prenotazione (non è sufficiente il “parteciperò” su facebook)\, comunicando nominativo e numero partecipanti\, tramite:\ntelefono o whatsapp: 366 2263994 (Rodolfo)\nmail: escursioni@picchiorosso.org\n\nQUOTA DI PARTECIPAZIONE:\n€ 15\n\nLa quota comprende: Guida Ambientale Escursionistica iscritta AIGAE con assicurazione RCT. Facoltativa assicurazione infortuni (+€1.30) da richiedere al momento della prenotazione.
URL:https://www.picchiorosso.org/event/tramonto-sul-monte-amandola-livello-e
CATEGORIES:Notturna,Tramonti e albe
ATTACH;FMTTYPE=image/jpeg:https://www.picchiorosso.org/wp-content/uploads/2019/06/castelmanardo_amandola.jpg
END:VEVENT
END:VCALENDAR