BEGIN:VCALENDAR
VERSION:2.0
PRODID:-//Picchio Rosso - ECPv6.15.20//NONSGML v1.0//EN
CALSCALE:GREGORIAN
METHOD:PUBLISH
X-WR-CALNAME:Picchio Rosso
X-ORIGINAL-URL:https://www.picchiorosso.org
X-WR-CALDESC:Eventi per Picchio Rosso
REFRESH-INTERVAL;VALUE=DURATION:PT1H
X-Robots-Tag:noindex
X-PUBLISHED-TTL:PT1H
BEGIN:VTIMEZONE
TZID:UTC
BEGIN:STANDARD
TZOFFSETFROM:+0000
TZOFFSETTO:+0000
TZNAME:UTC
DTSTART:20240101T000000
END:STANDARD
END:VTIMEZONE
BEGIN:VEVENT
DTSTART;TZID=UTC:20250215T163000
DTEND;TZID=UTC:20250215T193000
DTSTAMP:20260421T153638
CREATED:20250209T171307Z
LAST-MODIFIED:20250209T171308Z
UID:2104-1739637000-1739647800@www.picchiorosso.org
SUMMARY:Il tramonto degli innamorati (E)
DESCRIPTION:IN CASO DI NEVE l’escursione si trasforma in ciaspolata (con percorso più pianeggiante e più corto). La guida dispone di 12 paia di ciaspole da adulto e 3 paia da bambino da noleggiare (€5).——————————- \n\n\n\n \n\n\n\nUno spettacolare tramonto nel sabato che segue San Valentino e la festa degli innamorati. Aandiamo a godercelo sui pendii che portano al belvedere di Forca di Presta. Poi\, illuminati dalla sola luce della luna piena\, raggiungeremo il belvedere con un’agevole passeggiata. Il ritorno previsto per l’ora di cena vi lascerà il tempo di visitare Castelluccio di notte e farvi tentare dalle trattorie tipiche della zona! \n\n\n\nDATI ESCURSIONEItinerario: ad anelloLunghezza: 8 Km (5 in caso di ciaspolata)Durata\, soste escluse: 3hRientro previsto: ore 19:00 circaLivello Escursione: EDislivello 200mAdatta ai bambini di ogni etàCani ammessi. \n\n\n\nPROGRAMMA DELLA GIORNATARitrovi: Ore 16:00 a Forca di Presta \n\n\n\nEQUIPAGGIAMENTO:Scarpe da trekking alte \, abbigliamento invernale\, cuffia e guanti\, giacca a vento\, acqua 1 litro a testa. \n\n\n\nEQUIPAGGIAMENTO CONSIGLIATO: Impermeabile\, bastoncini da trekking\, snack dolci e/o frutta secca\, macchina fotografica\, un ricambio da tenere in auto. \n\n\n\nCOME PARTECIPAREPer partecipare all’ escursione è obbligatoria la prenotazione (non è sufficiente il “parteciperò” su facebook)\, comunicando nominativo e numero partecipanti\, tramite:telefono o whatsapp: 366 2263994 (Rodolfo)mail: escursioni@picchiorosso.org \n\n\n\nQUOTA DI PARTECIPAZIONE:€ 15 adultiMinorenni gratis \n\n\n\nChi guiderà:Rodolfo\, Guida Ambientale escursionistica iscritta AIGAE (numero iscrizione MR203)\, coperto da assicurazione RCT.
URL:https://www.picchiorosso.org/event/il-tramonto-degli-innamorati-e
CATEGORIES:Tramonti e albe
ATTACH;FMTTYPE=image/png:https://www.picchiorosso.org/wp-content/uploads/2020/01/001.png
END:VEVENT
BEGIN:VEVENT
DTSTART;TZID=UTC:20250810T003000
DTEND;TZID=UTC:20250810T090000
DTSTAMP:20260421T153638
CREATED:20200804T203739Z
LAST-MODIFIED:20250710T130946Z
UID:1418-1754785800-1754816400@www.picchiorosso.org
SUMMARY:Salita con la luna piena e alba sulla vetta della Sibilla (E)
DESCRIPTION:ALBA DI DOMENICA 10 AGOSTO (notte fra 9 e 10 Agosto) \n\n\n\n \n\n\n\nE’ tradizione per i ragazzi nelle Marche ad agosto aspettare un’alba in spiaggia. \n\n\n\nNoi rivivremo quella tradizione\, ma guardando le marche dall’alto dei 2.173 metri di altezza della montagna fatata. Lì arriveremo dopo un facile cammino notturno e ristorati da brioches\, biscotti e vin brulè (li portiano noi!) ammireremo paesaggi come quelli che vedete nella foto qui sopra\, con i paesini illuminati a mo’ di presepe. \n\n\n\nE poi la prima luce a est\, l’aria che si colora di blu e poi di arancione\, e il sole che sorge sul mare fin dove il nostro sguardo si spinge. \n\n\n\nRiposati e ristorati affronteremo la discesa dalla vetta della montagna misteriosa\, visiteremo l’antro dell’antica profetessa\, e una comoda strada bianca ci riporterà agevolmente a chiudere il più classico dei percorsi\, verso una giornata di relax. \n\n\n\nDATI ESCURSIONE– Itinerario: A/R– Lunghezza: 9 Km– Durata\, soste escluse: 4\,5h– Rientro previsto: ore 10 circa– Livello Escursione: E– Dislivello 450m– Adatto ai bambini dai 12 anni– Cani non ammessi. \n\n\n\nPROGRAMMA DELLA GIORNATARitrovi:– Ore 00:30 (mezzanotte e mezza) Montemonaco \n\n\n\nDa qui procederemo in minibus al rifugio Sibilla da cui avrà inizio l’escursione \n\n\n\nEQUIPAGGIAMENTOScarponcini da trekking \, pantaloni lunghi\, giacca a vento\, copricapo\, impermeabile/k-way\, Acqua 1\,5 l a testa \n\n\n\nCONSIGLIATI:Maglia/felpa a manica lunga\, bastoncini da trekking\, snack dolci e/o frutta secca\, macchina fotografica con treppiede\, un ricambio da tenere in auto. \n\n\n\nCOME PARTECIPAREPer partecipare all’escursione è obbligatoria la prenotazione (non è sufficiente il “parteciperò” su facebook)\, comunicando nominativo e numero partecipanti\, tramite: \n\n\n\ntelefono o whatsapp: 366 2263994 (Rodolfo)mail: escursioni@picchiorosso.org \n\n\n\nQUOTA DI PARTECIPAZIONE:€ 15 \n\n\n\nBiglietto minibus 7 Euro. \n\n\n\nChi guiderà:Rodolfo\, Guida Ambientale escursionistica iscritta AIGAE (numero iscrizione MR203)\, coperto da assicurazione RCT.
URL:https://www.picchiorosso.org/event/alba-sulla-vetta-della-sibilla-e
CATEGORIES:Notturna,Tramonti e albe
ATTACH;FMTTYPE=image/png:https://www.picchiorosso.org/wp-content/uploads/2019/06/DSC09396_web.png
END:VEVENT
END:VCALENDAR