BEGIN:VCALENDAR
VERSION:2.0
PRODID:-//Picchio Rosso - ECPv6.15.20//NONSGML v1.0//EN
CALSCALE:GREGORIAN
METHOD:PUBLISH
X-WR-CALNAME:Picchio Rosso
X-ORIGINAL-URL:https://www.picchiorosso.org
X-WR-CALDESC:Eventi per Picchio Rosso
REFRESH-INTERVAL;VALUE=DURATION:PT1H
X-Robots-Tag:noindex
X-PUBLISHED-TTL:PT1H
BEGIN:VTIMEZONE
TZID:UTC
BEGIN:STANDARD
TZOFFSETFROM:+0000
TZOFFSETTO:+0000
TZNAME:UTC
DTSTART:20250101T000000
END:STANDARD
END:VTIMEZONE
BEGIN:VEVENT
DTSTART;TZID=UTC:20260823T000000
DTEND;TZID=UTC:20260823T080000
DTSTAMP:20260420T220711
CREATED:20190728T095659Z
LAST-MODIFIED:20260419T151925Z
UID:1270-1787443200-1787472000@www.picchiorosso.org
SUMMARY:Alba e colazione sulla vetta della Sibilla (E)
DESCRIPTION:E’ tradizione per i ragazzi nelle Marche aspettare l’alba di ferragosto sulle spiagge.  \n\n\n\nNoi rivivremo quella tradizione\, ma guardando le marche dall’alto dei 2000m della montagna fatata\, sulla cresta del monte Zampa che porta alla Sibilla. Lì arriveremo dopo un facile cammino notturno e\, ristorati da brioches\, biscotti\, caffè e vin brulè (Li portiano noi!) ammireremo paesaggi come quelli che vedete nella foto qui sopra\, con i paesini illuminati a mo’ di presepe.  \n\n\n\nE poi la prima luci a est\, l’aria che si colora di blu e poi di arancione\, ed il sole che sorge sul mare\, fin dove il nostro sguardo si spinge. \n\n\n\nRiposati e ristorati\, affronteremo l’ascesa alla vetta della montagna misteriosa\, visiteremo l’antro dell’antica profetessa\, e una comoda strada bianca ci riporterà agevolmente a chiudere il più classico dei percorsi ad anello\, verso una giornata di relax. \n\n\n\nDATI ESCURSIONE \n\n\n\n\nItinerario: ad anello\n\n\n\nLunghezza: 11 Km \n\n\n\nDurata\, soste escluse: 4\,5h\n\n\n\nRientro previsto: ore 11 circa\n\n\n\nLivello Escursione: E \n\n\n\nDislivello 450m\n\n\n\nNon adatta ai bambini\n\n\n\nCani non ammessi.\n\n\n\n\nPROGRAMMA DELLA GIORNATA\nRitrovi: \n\n\n\n\nOre 00:00 (mezzanotte) Parcheggio navetta – Montemonaco\n\n\n\n\nDa qui procederemo con la navetta  al rifugio Sibilla da cui avrà inizio l’escursione \n\n\n\nEQUIPAGGIAMENTO Scarponcini da trekking \, pantaloni non corti\, giacca a vento\, copricapo\, impermeabile/k-way\, Acqua 1l a testa \n\n\n\nCONSIGLIATI: Maglia/felpa a manica lunga\, guanti e cappello\, bastoncini da trekking\, snack dolci e/o frutta secca\, macchina fotografica con treppiede\, un ricambio da tenere in auto\, una coperta per sdraiarsi a terra. \n\n\n\nCOME PARTECIPARE\nPer partecipare all’escursione è obbligatoria la prenotazione (non è sufficiente il “parteciperò” su facebook)\, comunicando nominativo e numero partecipanti\, tramite: \n\n\n\ntelefono o whatsapp: 366 2263994 (Rodolfo)\nmail: escursioni@picchiorosso.org \n\n\n\nQUOTA DI PARTECIPAZIONE:\n€ 15 \n\n\n\nLa quota comprende: Guida Ambientale Escursionistica iscritta AIGAE con assicurazione RCT. Facoltativa assicurazione infortuni (+€1.30) da richiedere al momento della prenotazione. \n\n\n\nNOTA\nLa guida è legittimata a variare gli itinerari\, anche in corso di svolgimento\, fino anche ad interrompere l’escursione\, allo scopo di tutelare la sicurezza del gruppo o di una sua parte.
URL:https://www.picchiorosso.org/event/alba-colazione-e-vetta-della-sibilla-ferragosto-al-top-e
ATTACH;FMTTYPE=image/png:https://www.picchiorosso.org/wp-content/uploads/2019/07/alba_01.png
END:VEVENT
END:VCALENDAR