BEGIN:VCALENDAR
VERSION:2.0
PRODID:-//Picchio Rosso - ECPv6.15.20//NONSGML v1.0//EN
CALSCALE:GREGORIAN
METHOD:PUBLISH
X-ORIGINAL-URL:https://www.picchiorosso.org
X-WR-CALDESC:Eventi per Picchio Rosso
REFRESH-INTERVAL;VALUE=DURATION:PT1H
X-Robots-Tag:noindex
X-PUBLISHED-TTL:PT1H
BEGIN:VTIMEZONE
TZID:UTC
BEGIN:STANDARD
TZOFFSETFROM:+0000
TZOFFSETTO:+0000
TZNAME:UTC
DTSTART:20180101T000000
END:STANDARD
END:VTIMEZONE
BEGIN:VEVENT
DTSTART;TZID=UTC:20190714T090000
DTEND;TZID=UTC:20190714T150000
DTSTAMP:20260421T040317
CREATED:20190708T230422Z
LAST-MODIFIED:20190708T230423Z
UID:1219-1563094800-1563116400@www.picchiorosso.org
SUMMARY:All'ombra del re - Percorrendo l'antica via dei mietitori (E)
DESCRIPTION:Antichi sentieri. Tracce di un passato quasi dimenticato fatto di migrazioni stagionali attraverso le montagne alla ricerca di lavoro\, cibo\, vita. \n\n\n\nPercorreremo uno di questi sentieri\, quello che più di ogni altro permette di ammirare la maestosità del Monte Vettore. Per tutto il percorso potremo ammirarne l’imponenza e la silenziosa maestosità. Ne percorreremo i fianchi\, ne attraverseremo i boschi\, fino a giungere all’antico santuario ferito di S. Maria in Pantano. \n\n\n\nOmbrosi castagni ci accompagneranno sulla via del ritorno\, verso il meritato ristoro. \n\n\n\nDATI ESCURSIONE \n\n\n\nItinerario: ad anelloLunghezza: 10 Km Durata\, soste escluse: 4hRientro previsto: ore 15 circaLivello Escursione: E Dislivello 350mAdatta ai bambini dai 12 anniCani ammessi.\n\n\n\nPROGRAMMA DELLA GIORNATA\nRitrovi: \n\n\n\nOre 9 Flory Caffetteria – Comunanza\n\n\n\nEQUIPAGGIAMENTO OBBLIGATORIO\nScarponcini da trekking \, impermeabile/k-way\, cappellino\, crema solare\, occhiali da sole\, pranzo al sacco\, acqua 1 litro a testa. \n\n\n\nEQUIPAGGIAMENTO CONSIGLIATO:\nAbbigliamento a strati\, bastoncini da trekking\, snack dolci e/o frutta secca\, macchina fotografica\, un ricambio da tenere in auto. \n\n\n\nNOTA\nLa guida è legittimata a variare gli itinerari\, anche in corso di svolgimento\, fino anche ad interrompere l’escursione\, allo scopo di tutelare la sicurezza del gruppo o di una sua parte. \n\n\n\nCOME PARTECIPARE\nPer partecipare all’ escursione è obbligatoria la prenotazione (non è sufficiente il “parteciperò” su facebook)\, comunicando nominativo e numero partecipanti\, tramite: \n\n\n\ntelefono o whatsapp: 366 2263994 (Rodolfo)\nmail: escursioni@picchiorosso.org \n\n\n\nQUOTA DI PARTECIPAZIONE:\n€ 15 adulti\n€ 10 per ragazzi sotto i 14 anni \n\n\n\nLa quota comprende: Guida Ambientale Escursionistica iscritta AIGAE con assicurazione RCT. Facoltativa assicurazione infortuni (+€1.30) da richiedere al momento della prenotazione.
URL:https://www.picchiorosso.org/event/allombra-del-re-percorrendo-lantica-via-dei-mietitori-e
CATEGORIES:Escursioni giornaliere
ATTACH;FMTTYPE=image/jpeg:https://www.picchiorosso.org/wp-content/uploads/2019/07/Altino.jpg
END:VEVENT
BEGIN:VEVENT
DTSTART;TZID=UTC:20190713T180000
DTEND;TZID=UTC:20190714T000000
DTSTAMP:20260421T040317
CREATED:20190606T203440Z
LAST-MODIFIED:20190619T174237Z
UID:1105-1563040800-1563062400@www.picchiorosso.org
SUMMARY:TRAMONTO SUL MONTE AMANDOLA - Livello E
DESCRIPTION:Accompagnati da una bellissima e romantica luna piena\, ammireremo le Marche da una posizione di assoluto privilegio.\n\nSotto di noi in tutto il loro splendore i paesi e le città maggiori illumineranno l’orizzonte con le loro piccolissime luci come in un unico\, enorme presepe mentre lo sguardo si spinge fino al mare.\n\nPartiremo prima del tramonto in modo da poter cenare (al sacco) presso un antico casale dei pastori oggi magnificamente restaurato\, poi ci avvieremo verso il punto panoramico da cui godremo il lento svanire della luce alle nostre spalle\, mentre le colline sotto di noi si accendono e l’ambiente si colora del rosso del tramonto.\n\nDATI ESCURSIONE\n– Itinerario: andata e ritorno\n– Lunghezza: 10 Km\n– Durata (soste escluse): 4h\n– Rientro previsto: ore 00:00 circa\n– Livello Escursione: T\n– Dislivello 300m\n– Adatta ai bambini dai 8 anni.\n– Cani ammessi: sì.\n\nPROGRAMMA DELLA GIORNATA\nRitrovi:\n– Ore 16:00 Civitanova Marche\, Parcheggio GLOBO vicino uscita autostradale\n– Ore 17:30 parcheggio Pintura di Bolognola\n– Ore 18:00 partenza escursione.\n\nEQUIPAGGIAMENTO OBBLIGATORIO\nAbbigliamento a strati\, giacca pesante\, impermeabile/k-way\, cena al sacco\, acqua 1\,5 litri a testa.\n\nEQUIPAGGIAMENTO CONSIGLIATO:\nUna coperta o un telo per sedersi sull’erba\, bastoncini da trekking\, snack dolci e/o frutta secca\, macchina fotografica con treppiede\, binocolo\, un ricambio da tenere in auto.\n\nNOTA\nLa guida è legittimata a variare gli itinerari\, anche in corso di svolgimento\, fino anche ad interrompere l’escursione\, allo scopo di tutelare la sicurezza del gruppo o di una sua parte.\n\nCOME PARTECIPARE\nPer partecipare all’escursione è obbligatoria la prenotazione (non è sufficiente il “parteciperò” su facebook)\, comunicando nominativo e numero partecipanti\, tramite:\ntelefono o whatsapp: 366 2263994 (Rodolfo)\nmail: escursioni@picchiorosso.org\n\nQUOTA DI PARTECIPAZIONE:\n€ 15\n\nLa quota comprende: Guida Ambientale Escursionistica iscritta AIGAE con assicurazione RCT. Facoltativa assicurazione infortuni (+€1.30) da richiedere al momento della prenotazione.
URL:https://www.picchiorosso.org/event/tramonto-sul-monte-amandola-livello-e
CATEGORIES:Notturna,Tramonti e albe
ATTACH;FMTTYPE=image/jpeg:https://www.picchiorosso.org/wp-content/uploads/2019/06/castelmanardo_amandola.jpg
END:VEVENT
BEGIN:VEVENT
DTSTART;TZID=UTC:20190707T100000
DTEND;TZID=UTC:20190707T140000
DTSTAMP:20260421T040317
CREATED:20190604T223554Z
LAST-MODIFIED:20190619T174517Z
UID:934-1562493600-1562508000@www.picchiorosso.org
SUMMARY:CASTELLUCCIO DI NORCIA - LA FIORITURA - Livello E
DESCRIPTION:La fioritura all’apice del suo splendore\, ma lontani dalla folla! \nL’appuntamento annuale con la fioritura di Castelluccio di Norcia è imperdibile. Noi vogliamo farvelo vivere in un modo originale\, più intimo e meno caotico. \nIn aggiunta alla classica vista della fioritura dal piano vi proponiamo quindi una prospettiva mozzafiato e meno conosciuta. Attraverseremo i colli alti e bassi fino a Capanna Ghezzi per poi salire su Colle Albieri e ammirare dall’alto il piano fiorito e il paese di Castelluccio. Al ritorno percorreremo la bellissima e selvaggia Valle delle Fonti. \nL’escursione termina nel primo pomeriggio\, per cui avremo tutto il tempo per la classica passeggiata nella piana\, circondati dalle margherite\, dai papaveri e dai fiordalisi che le danno il tipico aspetto multicolore. \nDATI ESCURSIONE\n– Itinerario: ad anello\n– Lunghezza: 7\,8 Km\n– Durata\, soste escluse: 3h\n– Rientro previsto: ore 14 circa\n– Livello Escursione: E\n– Dislivello 350m\n– Adatta ai bambini dagli 8 anni\n– Cani ammessi. \nPROGRAMMA DELLA GIORNATA\nRitrovi:\n– Ore 7 Civitanova Marche\, Parcheggio GLOBO vicino uscita autostradale\n– Ore 8:30 bar Pinco Panco\, via Salaria\, Acquasanta Terme\n– Ore 9:30 Parcheggio per Capanna Ghezzi\, Castelluccio di Norcia\n– Ore 10 partenza escursione \nEQUIPAGGIAMENTO OBBLIGATORIO\nScarponcini da trekking \, impermeabile/k-way\, cappellino\, crema solare\, occhiali da sole\, pranzo al sacco\, acqua 1 litro a testa. \nEQUIPAGGIAMENTO CONSIGLIATO:\nAbbigliamento a strati\, bastoncini da trekking\, snack dolci e/o frutta secca\, macchina fotografica\, un ricambio da tenere in auto. \nNOTA\nLa guida è legittimata a variare gli itinerari\, anche in corso di svolgimento\, fino anche ad interrompere l’escursione\, allo scopo di tutelare la sicurezza del gruppo o di una sua parte. \nCOME PARTECIPARE\nPer partecipare all’ escursione è obbligatoria la prenotazione (non è sufficiente il “parteciperò” su facebook)\, comunicando nominativo e numero partecipanti\, tramite: \ntelefono o whatsapp: 366 2263994 (Rodolfo)\nmail: escursioni@picchiorosso.org \nQUOTA DI PARTECIPAZIONE:\n€ 15 adulti\n€ 10 per ragazzi sotto i 14 anni\nBambini sotto i 10 anni: gratis \nLa quota comprende: Guida Ambientale Escursionistica iscritta AIGAE con assicurazione RCT. Facoltativa assicurazione infortuni (+€1.30) da richiedere al momento della prenotazione.
URL:https://www.picchiorosso.org/event/castelluccio-di-norcia-la-fioritura-difficolta-e
LOCATION:Castelluccio di Norcia
ATTACH;FMTTYPE=image/jpeg:https://www.picchiorosso.org/wp-content/uploads/2019/06/castelluccio_3.jpg
END:VEVENT
BEGIN:VEVENT
DTSTART;TZID=UTC:20190706T100000
DTEND;TZID=UTC:20190706T140000
DTSTAMP:20260421T040317
CREATED:20190605T222834Z
LAST-MODIFIED:20190619T201042Z
UID:1078-1562407200-1562421600@www.picchiorosso.org
SUMMARY:LE LAME ROSSE E IL LAGO DI FIASTRA - Livello T
DESCRIPTION:Le lame rosse. Uno degli itinerari più conosciuti ed apprezzati dei Monti Sibillini\, la cui bellezza non ha bisogno di presentazioni. \nCi incammineremo lungo il lago di Fiastra e poi\, dopo una passeggiata nel bosco\, le raggiungeremo ed ammireremo. \nDATI ESCURSIONE\n– Itinerario: andata e ritorno\n– Lunghezza: 7 Km\n– Durata\, soste escluse: 3\,5 h\n– Rientro previsto: ore 14 circa\n– Livello Escursione: T\n– Dislivello 200m\n– Adatta ai bambini dagli 8 anni\n– Cani ammessi. \nPROGRAMMA DELLA GIORNATA\nRitrovi:\n– Ore 9:30 bar ristorante “Il gatto e la volpe”\, Fiastra\n– Ore 10 partenza escursione \nEQUIPAGGIAMENTO OBBLIGATORIO\nScarpe da trekking \, impermeabile/k-way\, cappellino\, acqua 1 litro a testa. \nEQUIPAGGIAMENTO CONSIGLIATO:\nBastoncini da trekking\, crema solare\, occhiali da sole\, snack dolci e/o frutta secca\, un ricambio da tenere in auto. \nNOTA\nLa guida è legittimata a variare gli itinerari\, anche in corso di svolgimento\, fino anche ad interrompere l’escursione\, allo scopo di tutelare la sicurezza del gruppo o di una sua parte. \nCOME PARTECIPARE\nPer partecipare all’ escursione è obbligatoria la prenotazione (non è sufficiente il “parteciperò” su facebook)\, comunicando nominativo e numero partecipanti\, tramite: \ntelefono o whatsapp: 366 2263994 (Rodolfo)\nmail: escursioni@picchiorosso.org \nQUOTA DI PARTECIPAZIONE:\n€ 15 adulti\n€ 10 per ragazzi sotto i 14 anni\nBambini sotto i 10 anni: gratis \nLa quota comprende: Guida Ambientale Escursionistica iscritta AIGAE con assicurazione RCT. Facoltativa assicurazione infortuni (+€1.30) da richiedere al momento della prenotazione.
URL:https://www.picchiorosso.org/event/le-lame-rosse-e-il-lago-di-fiastra-difficolta-t
CATEGORIES:Escursioni giornaliere,T - Turistico
ATTACH;FMTTYPE=image/jpeg:https://www.picchiorosso.org/wp-content/uploads/2019/06/lamerosse.jpg
END:VEVENT
BEGIN:VEVENT
DTSTART;TZID=UTC:20190705T213000
DTEND;TZID=UTC:20190706T003000
DTSTAMP:20260421T040317
CREATED:20190604T224233Z
LAST-MODIFIED:20190619T180636Z
UID:936-1562362200-1562373000@www.picchiorosso.org
SUMMARY:ESCURSIONE NOTTURNA SUL MONTE CONERO - Livello E
DESCRIPTION:La bellezza del Monte Conero da vivere in modo nuovo con una escursione notturna per godere dei panorami al chiaro di luna e percepire l’ambiente con sensi diversi. \nDATI ESCURSIONE– Itinerario: ad anello– Lunghezza: 5 Km– Durata: 3h– Rientro previsto: ore 00:30 circa– Livello Escursione: E– Dislivello 150m– Adatta ai bambini dagli 8 anni.– Cani ammessi. \nPROGRAMMA DELLA GIORNATARitrovi:– Ore 21:15 Parcheggio sommitale Conero– Ore 21:00 partenza escursione. \nEQUIPAGGIAMENTO OBBLIGATORIOScarponcini da trekking\, impermeabile/k-way\, giacca pesante\, acqua 1 litro a testa. \nEQUIPAGGIAMENTO CONSIGLIATO:Abbigliamento a strati\, una coperta o un telo per sedersi sull’erba\, bastoncini da trekking\, snack dolci e/o frutta secca. \nNOTALa guida è legittimata a variare gli itinerari\, anche in corso di svolgimento\, fino anche ad interrompere l’escursione\, allo scopo di tutelare la sicurezza del gruppo o di una sua parte. \nCOME PARTECIPAREPer partecipare all’escursione è obbligatoria la prenotazione (non è sufficiente il “parteciperò” su facebook)\, comunicando nominativo e numero partecipanti\, tramite:telefono o whatsapp: 366 2263994 (Rodolfo) – 3494737063 (Federica)mail: escursioni@picchiorosso.org – f.feliciani78@gmail.com \nQUOTA DI PARTECIPAZIONE:€ 15 \nLa quota comprende: Guida Ambientale Escursionistica iscritta AIGAE con assicurazione RCT. Facoltativa assicurazione infortuni (+€1.30) da richiedere al momento della prenotazione.
URL:https://www.picchiorosso.org/event/escursione-notturna-sul-monte-conero-difficolta-e
CATEGORIES:Escursioni giornaliere
ATTACH;FMTTYPE=image/jpeg:https://www.picchiorosso.org/wp-content/uploads/2019/06/coneronotturna2.jpg
END:VEVENT
BEGIN:VEVENT
DTSTART;TZID=UTC:20190705T100000
DTEND;TZID=UTC:20190705T140000
DTSTAMP:20260421T040317
CREATED:20190628T144513Z
LAST-MODIFIED:20190628T144518Z
UID:1214-1562320800-1562335200@www.picchiorosso.org
SUMMARY:EVENTO EXTRA IN GIORNO FERIALE! CASTELLUCCIO DI NORCIA – LA FIORITURA – (E)
DESCRIPTION:La fioritura all’apice del suo splendore\, ma lontani dalla folla! \n\n\n\nL’appuntamento annuale con la fioritura di Castelluccio di Norcia è imperdibile. Noi vogliamo farvelo vivere in un modo originale\, più intimo e meno caotico. \n\n\n\nIn aggiunta alla classica vista della fioritura dal piano vi proponiamo quindi una prospettiva mozzafiato e meno conosciuta. Attraverseremo i colli alti e bassi fino a Capanna Ghezzi per poi salire su Colle Albieri e ammirare dall’alto il piano fiorito e il paese di Castelluccio. Al ritorno percorreremo la bellissima e selvaggia Valle delle Fonti. \n\n\n\nL’escursione termina nel primo pomeriggio\, per cui avremo tutto il tempo per la classica passeggiata nella piana\, circondati dalle margherite\, dai papaveri e dai fiordalisi che le danno il tipico aspetto multicolore. \n\n\n\nDATI ESCURSIONE\n– Itinerario: ad anello\n– Lunghezza: 7\,8 Km\n– Durata\, soste escluse: 3h\n– Rientro previsto: ore 14 circa\n– Livello Escursione: E\n– Dislivello 350m\n– Adatta ai bambini dagli 8 anni\n– Cani ammessi. \n\n\n\nPROGRAMMA DELLA GIORNATA\nRitrovi:\n– Ore 7 Civitanova Marche\, Parcheggio GLOBO vicino uscita autostradale\n– Ore 8:30 bar Pinco Panco\, via Salaria\, Acquasanta Terme\n– Ore 9:30 Parcheggio per Capanna Ghezzi\, Castelluccio di Norcia\n– Ore 10 partenza escursione \n\n\n\nEQUIPAGGIAMENTO OBBLIGATORIO\nScarponcini da trekking \, impermeabile/k-way\, cappellino\, crema solare\, occhiali da sole\, pranzo al sacco\, acqua 1 litro a testa. \n\n\n\nEQUIPAGGIAMENTO CONSIGLIATO:\nAbbigliamento a strati\, bastoncini da trekking\, snack dolci e/o frutta secca\, macchina fotografica\, un ricambio da tenere in auto. \n\n\n\nNOTA\nLa guida è legittimata a variare gli itinerari\, anche in corso di svolgimento\, fino anche ad interrompere l’escursione\, allo scopo di tutelare la sicurezza del gruppo o di una sua parte. \n\n\n\nCOME PARTECIPARE\nPer partecipare all’ escursione è obbligatoria la prenotazione (non è sufficiente il “parteciperò” su facebook)\, comunicando nominativo e numero partecipanti\, tramite: \n\n\n\ntelefono o whatsapp: 366 2263994 (Rodolfo)\nmail: escursioni@picchiorosso.org \n\n\n\nQUOTA DI PARTECIPAZIONE:\n€ 15 adulti\n€ 10 per ragazzi sotto i 14 anni\nBambini sotto i 10 anni: gratis \n\n\n\nLa quota comprende: Guida Ambientale Escursionistica iscritta AIGAE con assicurazione RCT. Facoltativa assicurazione infortuni (+€1.30) da richiedere al momento della prenotazione.
URL:https://www.picchiorosso.org/event/evento-extra-in-giorno-feriale-castelluccio-di-norcia-la-fioritura-e-2
CATEGORIES:Escursioni giornaliere
ATTACH;FMTTYPE=image/png:https://www.picchiorosso.org/wp-content/uploads/2019/06/20190705_castelluccio.png
END:VEVENT
BEGIN:VEVENT
DTSTART;TZID=UTC:20190630T100000
DTEND;TZID=UTC:20190630T163000
DTSTAMP:20260421T040317
CREATED:20190619T175150Z
LAST-MODIFIED:20190619T215657Z
UID:1181-1561888800-1561912200@www.picchiorosso.org
SUMMARY:GOLE DEL SALINELLO E FORTEZZA DI CIVITELLA – Livello E
DESCRIPTION:Al confine tra Marche e Abruzzo svettano due montagne molto simili tra loro: sono i Monti Gemelli. Questi due monti\, la Montagna dei Fiori e la Montagna di Campli\, sono divisi da un fiume\, il Salinello\, che nel suo scorrere verso il mare ha creato profonde e strette forre.  \n\n\n\nLe gole del Salinello\, all’interno del Parco Nazionale del Gran Sasso e Monti della Laga\, sono un lungo e profondo canyon\, tra il Monte Girella e il Monte Foltrone. E’ possibile risalirle a piedi per un lungo tratto. con una escursione ricca di storia\, cultura di natura\, che nel suo tratto più caratteristico si svolge camminando direttamente dentro le poco profonde e fresche acque del fiume.  \n\n\n\nDopo un pranzo al sacco consumato nel punto più lontano e fresco della gola\, faremo ritorno alle auto e con un breve tragitto di 15 minuti ci dirigeremo alla fortezza di Civitella del Tronto. Uno dei più estesi bastioni difensivi sul territorio nazionale e l’ultimo a cadere alla proclamazione del regno d’Italia.  \n\n\n\nVisiteremo per intero la fortezza  \n\n\n\nDATI ESCURSIONE  \n\n\n\n– Itinerario: andata e ritorno  \n\n\n\n– Lunghezza: 3 Km \n\n\n\n– Durata\, soste escluse: 3h  \n\n\n\n– Rientro previsto: ore 14 circa  \n\n\n\n– Livello Escursione: E  \n\n\n\n– Dislivello 120m  \n\n\n\n– Adatta ai bambini dai 6 anni  \n\n\n\n– Cani ammessi.  \n\n\n\n \n\n\n\nPROGRAMMA DELLA GIORNATA Ritrovi:  \n\n\n\n– Ore 8 Civitanova Marche\, Parcheggio GLOBO vicino uscita autostradale – Ore 9:30 parcheggio Grotte di San Angelo e Gole del Salinello  \n\n\n\n– Ore 10 partenza escursione – Ore 14 rientro alle auto – Ore 15 ingresso alla fortezza \n\n\n\n– Ore 16:30 termine visita alla fortezza  \n\n\n\n \n\n\n\nEQUIPAGGIAMENTO OBBLIGATORIO Scarponcini da trekking\, scarpe di ricambio o sandali da trekking\, sacchetto in plastica impermeabile\, cappellino\, crema solare\, occhiali da sole\, pranzo al sacco\, acqua 1 litro a testa.  \n\n\n\nEQUIPAGGIAMENTO CONSIGLIATO: Bastoncini da trekking\, snack dolci e/o frutta secca\, macchina fotografica\, un ricambio completo da tenere in auto.  \n\n\n\nNOTA  \n\n\n\nLa guida è legittimata a variare gli itinerari\, anche in corso di svolgimento\, fino anche ad interrompere l’escursione\, allo scopo di tutelare la sicurezza del gruppo o di una sua parte.  \n\n\n\nCOME PARTECIPARE Per partecipare all’ escursione è obbligatoria la prenotazione (non è sufficiente il “parteciperò” su facebook)\, comunicando nominativo e numero partecipanti\, tramite: telefono o whatsapp: 366 2263994 (Rodolfo) mail: escursioni@picchiorosso.org  \n\n\n\nQUOTA DI PARTECIPAZIONE: € 10 per l’escursione (l’ingresso alla fortezza costa €6 e si paga direttamente alla biglietteria) La quota comprende: Guida Ambientale Escursionistica iscritta AIGAE con assicurazione RCT. Facoltativa assicurazione infortuni (+€1.30) da richiedere al momento della prenotazione. \n\n\n\nPrenota o chiedi informazioni\n\n\n\n)
URL:https://www.picchiorosso.org/event/gole-del-salinello-e-fortezza-di-civitella-livello-e
CATEGORIES:Escursioni giornaliere
ATTACH;FMTTYPE=image/jpeg:https://www.picchiorosso.org/wp-content/uploads/2019/06/20190630-Salinello.jpg
END:VEVENT
BEGIN:VEVENT
DTSTART;TZID=UTC:20190629T100000
DTEND;TZID=UTC:20190629T140000
DTSTAMP:20260421T040317
CREATED:20190604T212025Z
LAST-MODIFIED:20190620T203357Z
UID:912-1561802400-1561816800@www.picchiorosso.org
SUMMARY:CASTELLUCCIO DI NORCIA - LA FIORITURA - Livello E
DESCRIPTION:La fioritura all’apice del suo splendore\, ma lontani dalla folla! \nL’appuntamento annuale con la fioritura di Castelluccio di Norcia è imperdibile. Noi vogliamo farvelo vivere in un modo originale\, più intimo e meno caotico. \nIn aggiunta alla classica vista della fioritura dal piano vi proponiamo quindi una prospettiva mozzafiato e meno conosciuta. Attraverseremo i colli alti e bassi fino a Capanna Ghezzi per poi salire su Colle Albieri e ammirare dall’alto il piano fiorito e il paese di Castelluccio. Al ritorno percorreremo la bellissima e selvaggia Valle delle Fonti. \nL’escursione termina nel primo pomeriggio\, per cui avremo tutto il tempo per la classica passeggiata nella piana\, circondati dalle margherite\, dai papaveri e dai fiordalisi che le danno il tipico aspetto multicolore. \nDATI ESCURSIONE– Itinerario: ad anello– Lunghezza: 7\,8 Km– Durata\, soste escluse: 3h– Rientro previsto: ore 14 circa– Livello Escursione: E– Dislivello 350m– Adatta ai bambini dagli 8 anni– Cani ammessi. \nPROGRAMMA DELLA GIORNATARitrovi:– Ore 7 Civitanova Marche\, Parcheggio GLOBO vicino uscita autostradale– Ore 8:30 bar Pinco Panco\, via Salaria\, Acquasanta Terme– Ore 9:30 Parcheggio per Capanna Ghezzi\, Castelluccio di Norcia– Ore 10 partenza escursione \nEQUIPAGGIAMENTO OBBLIGATORIOScarponcini da trekking \, impermeabile/k-way\, cappellino\, crema solare\, occhiali da sole\, pranzo al sacco\, acqua 1 litro a testa. \nEQUIPAGGIAMENTO CONSIGLIATO:Abbigliamento a strati\, bastoncini da trekking\, snack dolci e/o frutta secca\, macchina fotografica\, un ricambio da tenere in auto. \nNOTALa guida è legittimata a variare gli itinerari\, anche in corso di svolgimento\, fino anche ad interrompere l’escursione\, allo scopo di tutelare la sicurezza del gruppo o di una sua parte. \nCOME PARTECIPAREPer partecipare all’ escursione è obbligatoria la prenotazione (non è sufficiente il “parteciperò” su facebook)\, comunicando nominativo e numero partecipanti\, tramite: \ntelefono o whatsapp: 366 2263994 (Rodolfo)mail: escursioni@picchiorosso.org \nQUOTA DI PARTECIPAZIONE:€ 15 adulti€ 10 per ragazzi sotto i 14 anniBambini sotto i 10 anni: gratis \nLa quota comprende: Guida Ambientale Escursionistica iscritta AIGAE con assicurazione RCT. Facoltativa assicurazione infortuni (+€1.30) da richiedere al momento della prenotazione. \n\n\n\n\n\n\n\n\n\n\n\n Prenota o chiedi informazioni\n\n\n\n)
URL:https://www.picchiorosso.org/event/castelluccio-di-norcia-la-fioritura
LOCATION:Sirolo
CATEGORIES:Escursioni giornaliere
ATTACH;FMTTYPE=image/jpeg:https://www.picchiorosso.org/wp-content/uploads/2015/01/castelluccio1900x1169y.jpg
END:VEVENT
END:VCALENDAR