BEGIN:VCALENDAR
VERSION:2.0
PRODID:-//Picchio Rosso - ECPv6.15.20//NONSGML v1.0//EN
CALSCALE:GREGORIAN
METHOD:PUBLISH
X-WR-CALNAME:Picchio Rosso
X-ORIGINAL-URL:https://www.picchiorosso.org
X-WR-CALDESC:Eventi per Picchio Rosso
REFRESH-INTERVAL;VALUE=DURATION:PT1H
X-Robots-Tag:noindex
X-PUBLISHED-TTL:PT1H
BEGIN:VTIMEZONE
TZID:UTC
BEGIN:STANDARD
TZOFFSETFROM:+0000
TZOFFSETTO:+0000
TZNAME:UTC
DTSTART:20230101T000000
END:STANDARD
END:VTIMEZONE
BEGIN:VEVENT
DTSTART;TZID=UTC:20241006T083000
DTEND;TZID=UTC:20241006T153000
DTSTAMP:20260421T134342
CREATED:20241003T130717Z
LAST-MODIFIED:20241003T192430Z
UID:2013-1728203400-1728228600@www.picchiorosso.org
SUMMARY:Il meraviglioso Monte Cardosa (E)
DESCRIPTION:Nuova escursione per noi!Il Monte Cardosa è una vetta poco nota e ancor meno frequentata\, eppure spicca vistoso e isolato dal resto delle cime dei Sibillini. Con i suoi 1818 metri e grazie alla sua posizione regala panorami unici dalla sua vetta\, poichè consente di guardare le altre cime da una prospettiva insolita. \n\n\n\nLa salita per arrivarci è continua e graduale\, faticosa ma alla portata di tutti. \n\n\n\nRsaliremo una bellissima valle costeggiata da un rivolo d’acqua\, poi usciremo dal bosco sui grando pascoli in quota e ci porteremo alla base della montagna. Da qui un ultimo piccolo strappo ci porterà in vetta. Ritorneremo per la stessa via. \n\n\n\nDATI ESCURSIONE– Itinerario: A/R– Lunghezza: 12\,5 Km– Durata\, soste escluse: 4\,5h– Rientro previsto: ore 16 circa– Livello Escursione: E– Dislivello 900m– Adatto ai bambini dai 11 anni– Cani ammessi. \n\n\n\n\n\n\nPROGRAMMA DELLA GIORNATARitrovi:– Ore 8:30 Castelsantangelo sul Nera. \n\n\n\n\nEQUIPAGGIAMENTOScarponcini da trekking \, impermeabile/k-way\, giacca\, guanti e cuffia\, occhiali da sole\, pranzo al sacco\, acqua almeno 1 litro a testa. \n\n\n\n\nEQUIPAGGIAMENTO CONSIGLIATO:Maglia a manica lunga\, bastoncini da trekking\, snack dolci e/o frutta secca\, macchina fotografica\, un ricambio da tenere in auto. \n\n\n\n\n\n\nCOME PARTECIPAREPer partecipare all’ escursione è obbligatoria la prenotazione (non è sufficiente il “parteciperò” su facebook)\, comunicando nominativo e numero partecipanti\, tramite:Telefono o whatsapp: 366 2263994 (Rodolfo)mail: escursioni@picchiorosso.orgQUOTA DI PARTECIPAZIONE: \n\n\n\nAdulti € 15Minorenni gratis \n\n\n\nChi guiderà:Rodolfo\, Guida Ambientale escursionistica iscritta AIGAE (numero iscrizione MR203)\, coperto da assicurazione RCT.
URL:https://www.picchiorosso.org/event/il-meraviglioso-monte-cardosa-e
CATEGORIES:Escursioni giornaliere
ATTACH;FMTTYPE=image/jpeg:https://www.picchiorosso.org/wp-content/uploads/2024/10/cardosa1.jpg
END:VEVENT
BEGIN:VEVENT
DTSTART;TZID=UTC:20241020T090000
DTEND;TZID=UTC:20241020T140000
DTSTAMP:20260421T134342
CREATED:20241003T191955Z
LAST-MODIFIED:20241003T191956Z
UID:2031-1729414800-1729432800@www.picchiorosso.org
SUMMARY:L'itinerario del ferro (E)
DESCRIPTION:La montagna e la sua Storia. \n\n\n\nLe sue grotte\, riparo da tempi immemori per l’uomo\, le sue risorse\, che ne hanno favorito lo sviluppo e lo hanno aiutato a non subire impotente la furia della natura. \n\n\n\nI suoi boschi ed i sentieri ormai spariti e dimenticati\, ideali per dedicarsi a escursioni insolite e rustiche come piacciono a noi! \n\n\n\nRisaliremo il fosso di S. Simone a Casali di Ussita\, un luogo con caratteristiche geologiche uniche e immediatamente visibili. Cammineremo direttamente su una faglia\, e man mano che cialzeremo di quota potremo ammirare viste sulla Priora\, su Pizzo Berro\, e da vicino sull’enorme parete del monte Bove. \n\n\n\nQui gli uomini preistorici estraevano dalle vene di minerale ancora ben visibili il loro primo ferro.Ci addentreremo poi in una misteriosa e buia faggeta\, colorata dei suoi caldi toni autunnali\, sotto una rupe minacciosa fino alle grotte che offrivano riparo ai pastori e agli eremiti. \n\n\n\nDa qui faremo ritorno attraverso il bosco ai campi ormai in abbandono e poi a Casali per concludere l’itinerario visitando un misterioso sito che probabilmente serviva proprio a fondere il ferro. \n\n\n\nPer questo itinerario un enorme ringraziamento è dovuto a Gianluca Corallini\, uno dei maggioriesperti dei Sibillini\, ed alle sue pubblicazioni “1000 giorni sui Sibillini”.Gianluca ha fatto un lavoro magistrale nel ricercare itinerari dimenticati o poco conosciuti\, fuori dalle vie più “turistiche”. Quanto da lui scritto è stato fondamentale per i sopralluoghi che poihanno portato alla realizzazione di questo percorso. \n\n\n\n\n\n\nDATI ESCURSIONE– Itinerario: Anello– Lunghezza: 7 Km– Durata\, soste escluse: 3h– Rientro previsto: ore 14.00 circa– Livello Escursione: E– Dislivello 250m– Adatto ai bambini di qualsiasi età– Cani ammessi. \n\n\n\nPROGRAMMA DELLA GIORNATARitrovi:– Ore 9:00 Ussita\, bar Due Monti (saranno fornite coordinate google maps precise) \n\n\n\nEQUIPAGGIAMENTOScarponcini da trekking \, impermeabile/k-way\, pranzo al sacco\, acqua 2 litri a testa. \n\n\n\n\n\n\nEQUIPAGGIAMENTO CONSIGLIATO:Maglia a manica lunga\, guanti e cuffia\, bastoncini da trekking\, snack dolci e/o frutta secca\, macchina fotografica\, un ricambio da tenere in auto. \n\n\n\nCOME PARTECIPAREPer partecipare all’ escursione è obbligatoria la prenotazione (non è sufficiente il “parteciperò” su facebook)\, comunicando nominativo e numero partecipanti\, tramite:Telefono o whatsapp: 366 2263994 (Rodolfo)mail: escursioni@picchiorosso.org \n\n\n\nQUOTA DI PARTECIPAZIONE:Adulti € 15Minorenni gratis \n\n\n\nCHI GUIDERA’Rodolfo\, Guida Ambientale escursionistica iscritta AIGAE (numero iscrizione MR203)\, coperto da assicurazione RCT.
URL:https://www.picchiorosso.org/event/litinerario-del-ferro-e
ATTACH;FMTTYPE=image/jpeg:https://www.picchiorosso.org/wp-content/uploads/2024/10/bove.jpg
END:VEVENT
END:VCALENDAR