BEGIN:VCALENDAR
VERSION:2.0
PRODID:-//Picchio Rosso - ECPv6.15.20//NONSGML v1.0//EN
CALSCALE:GREGORIAN
METHOD:PUBLISH
X-ORIGINAL-URL:https://www.picchiorosso.org
X-WR-CALDESC:Eventi per Picchio Rosso
REFRESH-INTERVAL;VALUE=DURATION:PT1H
X-Robots-Tag:noindex
X-PUBLISHED-TTL:PT1H
BEGIN:VTIMEZONE
TZID:UTC
BEGIN:STANDARD
TZOFFSETFROM:+0000
TZOFFSETTO:+0000
TZNAME:UTC
DTSTART:20240101T000000
END:STANDARD
END:VTIMEZONE
BEGIN:VEVENT
DTSTART;TZID=UTC:20250801T080000
DTEND;TZID=UTC:20250801T170000
DTSTAMP:20260420T205733
CREATED:20250710T123911Z
LAST-MODIFIED:20250811T134616Z
UID:2161-1754035200-1754067600@www.picchiorosso.org
SUMMARY:Il grande anello delle cime nord: da Casali a Pizzo tre Vescovi e Pizzo Berro\, con ritorno per la Val di Panico (E+)
DESCRIPTION:Una lunga e bellissima cavalcata nella zona nord dei Sibillini ci attende per la consueta escursione di mezza estate Picchiorosso! \n\n\n\n\n\n\n\nDa Casali di Ussita saliremo fino alla forcella del Fargno per il versante sud del Monte Rotondo. Un veloce caffè/bibita al rifugio e poi via verso le vette circostanti: inizieremo con Pizzo tre Vescovi per poi proseguire fino a Pizzo Berro\, una delle vette più ambite! Al rientro non percorreremo la stessa via ma ci tufferemo dentro la val di Panico. \n\n\n\nLungo tutta la passeggiata ci accompagneranno viste meravigliose su entrambi i versanti! \n\n\n\nDATI ESCURSIONE– Lunghezza: 17\,5 Km– Durata\, soste escluse: 5h– Rientro previsto: ore 18:00 circa– Livello Escursione: E+ (non presenta difficoltà particolari\, ma è faticosa)– Dislivello 1350m– Età minima 14 anni– Cani non ammessi \n\n\n\n\n\n\n\nPROGRAMMA DELLA GIORNATARitrovi: Ore 08:00 Bar due monti\, Ussita (saranno fornite coordinate google maps) Partenza Escursione ore 8:30 da Casali \n\n\n\nEQUIPAGGIAMENTOScarponcini da trekking rigorosamente alti\, pantaloni lunghi\, maglie a manica corta e lunga\, acqua almeno 2 litri a testa. \n\n\n\nEQUIPAGGIAMENTO CONSIGLIATO:Impermeabile\, bastoncini da trekking\, snack dolci e/o frutta secca\, macchina fotografica\, un ricambio da tenere in auto. \n\n\n\nCOME PARTECIPAREPer partecipare all’ escursione è obbligatoria la prenotazione (non è sufficiente il “parteciperò” su facebook)\, comunicando nominativo e numero partecipanti\, tramite:telefono o whatsapp: 366 2263994 (Rodolfo)mail: escursioni@picchiorosso.org \n\n\n\nChi guiderà:Rodolfo\, Guida Ambientale escursionistica iscritta AIGAE (numero iscrizione MR203)\, coperto da assicurazione RCT. \n\n\n\nCosto escursione: Euro 20
URL:https://www.picchiorosso.org/event/il-grande-anello-delle-cime-nord-da-casali-a-pizzo-tre-vescovi-e-pizzo-berro-con-ritorno-per-la-val-di-panico-e
ATTACH;FMTTYPE=image/jpeg:https://www.picchiorosso.org/wp-content/uploads/2025/07/casali.jpg
END:VEVENT
BEGIN:VEVENT
DTSTART;TZID=UTC:20250810T003000
DTEND;TZID=UTC:20250810T090000
DTSTAMP:20260420T205733
CREATED:20200804T203739Z
LAST-MODIFIED:20250710T130946Z
UID:1418-1754785800-1754816400@www.picchiorosso.org
SUMMARY:Salita con la luna piena e alba sulla vetta della Sibilla (E)
DESCRIPTION:ALBA DI DOMENICA 10 AGOSTO (notte fra 9 e 10 Agosto) \n\n\n\n \n\n\n\nE’ tradizione per i ragazzi nelle Marche ad agosto aspettare un’alba in spiaggia. \n\n\n\nNoi rivivremo quella tradizione\, ma guardando le marche dall’alto dei 2.173 metri di altezza della montagna fatata. Lì arriveremo dopo un facile cammino notturno e ristorati da brioches\, biscotti e vin brulè (li portiano noi!) ammireremo paesaggi come quelli che vedete nella foto qui sopra\, con i paesini illuminati a mo’ di presepe. \n\n\n\nE poi la prima luce a est\, l’aria che si colora di blu e poi di arancione\, e il sole che sorge sul mare fin dove il nostro sguardo si spinge. \n\n\n\nRiposati e ristorati affronteremo la discesa dalla vetta della montagna misteriosa\, visiteremo l’antro dell’antica profetessa\, e una comoda strada bianca ci riporterà agevolmente a chiudere il più classico dei percorsi\, verso una giornata di relax. \n\n\n\nDATI ESCURSIONE– Itinerario: A/R– Lunghezza: 9 Km– Durata\, soste escluse: 4\,5h– Rientro previsto: ore 10 circa– Livello Escursione: E– Dislivello 450m– Adatto ai bambini dai 12 anni– Cani non ammessi. \n\n\n\nPROGRAMMA DELLA GIORNATARitrovi:– Ore 00:30 (mezzanotte e mezza) Montemonaco \n\n\n\nDa qui procederemo in minibus al rifugio Sibilla da cui avrà inizio l’escursione \n\n\n\nEQUIPAGGIAMENTOScarponcini da trekking \, pantaloni lunghi\, giacca a vento\, copricapo\, impermeabile/k-way\, Acqua 1\,5 l a testa \n\n\n\nCONSIGLIATI:Maglia/felpa a manica lunga\, bastoncini da trekking\, snack dolci e/o frutta secca\, macchina fotografica con treppiede\, un ricambio da tenere in auto. \n\n\n\nCOME PARTECIPAREPer partecipare all’escursione è obbligatoria la prenotazione (non è sufficiente il “parteciperò” su facebook)\, comunicando nominativo e numero partecipanti\, tramite: \n\n\n\ntelefono o whatsapp: 366 2263994 (Rodolfo)mail: escursioni@picchiorosso.org \n\n\n\nQUOTA DI PARTECIPAZIONE:€ 15 \n\n\n\nBiglietto minibus 7 Euro. \n\n\n\nChi guiderà:Rodolfo\, Guida Ambientale escursionistica iscritta AIGAE (numero iscrizione MR203)\, coperto da assicurazione RCT.
URL:https://www.picchiorosso.org/event/alba-sulla-vetta-della-sibilla-e
CATEGORIES:Notturna,Tramonti e albe
ATTACH;FMTTYPE=image/png:https://www.picchiorosso.org/wp-content/uploads/2019/06/DSC09396_web.png
END:VEVENT
BEGIN:VEVENT
DTSTART;TZID=UTC:20250816T210000
DTEND;TZID=UTC:20250816T233000
DTSTAMP:20260420T205733
CREATED:20230801T103026Z
LAST-MODIFIED:20250729T202644Z
UID:1802-1755378000-1755387000@www.picchiorosso.org
SUMMARY:La notte delle stelle cadenti (T)
DESCRIPTION:Le notti più magiche\, romantiche ed attesa dell’estate: le notti delle stelle cadenti\, le notti dei desideri. Tutti col naso all’insù pronti ad avvistare fulminee scie luminose nel cielo e a esprimere al cielo le nostre speranze. \n\n\n\nInizieremo dopo cena\, già al buio\, con una facile escursione per ammirare il panorama delle Marche illuminate dalle luci dei piccoli paesini\, viste da una posizione privilegiata a quasi 1.400 metri di quota. \n\n\n\nPoi ci sdraieremo in un prato\, in un luogo dove le luci delle città non riescono a nascondere il cielo\, per contare ed osservare un’ interminabile pioggia di stelle cadenti. Qui il giovanissimo e bravissimo esperto astrofilo Matteo Vittori ci racconterà di loro e ci svelerà alcuni segreti del cosmo. \n\n\n\nNell’orario dell’escursione la luna non sarà ancora sorta per cui godremo di un buio pressochè totale\, le stelle cadente saranno più di quante riusciate a contarne! \n\n\n\nDATI ESCURSIONE– Itinerario: A/R– Lunghezza: 3 Km– Livello Escursione: T– Dislivello 50m– Adatta ai bambini di qualsiasi età.– Cani ammessi. \n\n\n\nPROGRAMMA DELLA GIORNATARitrovi:– Ore 20:30 Sassotetto. Da qui raggiungeremo i piani di Ragnolo.– Ore 20:45 partenza escursione. \n\n\n\nEQUIPAGGIAMENTOGiacca a vento pesante\, cuffia invernale\, molti desideri da esprimere\, impermeabile/k-way\, cena al sacco\, acqua 1 litro a testa. \n\n\n\nEQUIPAGGIAMENTO CONSIGLIATO:Una coperta o un telo per sedersi sull’erba\, torcia\, snack dolci e/o frutta secca\, guanti\, macchina fotografica con treppiede\, un ricambio da tenere in auto. \n\n\n\nCOME PARTECIPAREPer partecipare all’escursione è obbligatoria la prenotazione (non è sufficiente il “parteciperò” su facebook)\, comunicando nominativo e numero partecipanti\, tramite:telefono o whatsapp: 366 2263994 (Rodolfo)mail: escursioni@picchiorosso.org
URL:https://www.picchiorosso.org/event/la-notte-delle-stelle-cadenti-t-2
CATEGORIES:Notturna
ATTACH;FMTTYPE=image/jpeg:https://www.picchiorosso.org/wp-content/uploads/2019/07/001.jpg
END:VEVENT
BEGIN:VEVENT
DTSTART;TZID=UTC:20250817T090000
DTEND;TZID=UTC:20250817T160000
DTSTAMP:20260420T205733
CREATED:20240409T090926Z
LAST-MODIFIED:20250710T125623Z
UID:1915-1755421200-1755446400@www.picchiorosso.org
SUMMARY:Wild Wild Ambro – Verso la gola nascosta (E)
DESCRIPTION:Ti portiamo dove non sei mai stato\, ti portiamo nel giardino dell’Eden.C’è una gola nei Sibillini\, meno famosa della sua “sorella”\, l’Infernaccio\, più remota\, più difficile da raggiungere. Incontaminata. \n\n\n\nSiamo dentro la val d’Ambro\, lungo una vecchissima via che i carbonai hanno tracciato per raggiungere i faggi secolare della parte alta della valle. Una via oggi scomparsa\, di cui solo pochi segni rimangono. Una via che abbiamo nuovamente esplorato per voi\, e che ci condurrà fino alla gola detta “dell’Infernaccetto”. \n\n\n\nLarga neanche un metro\, con pareti a picco\, simile ad un portale verso altri sconosciuti mondi. Per arrivarci\, dovremo farci strada lungo il fiume\, attraversandone spesso il letto\, fin dove l’acqua scompare e poi oltre. Nel tragitto ci colpirà l’esplosione di vita di una valle intoccata da decenni\, lontana dal turismo di massa\, selvaggia come nessun altro luogo dei Sibillini. Cascate\, pareti di muschio\, felci\, tassi ed agrifogli\, relitti antichi di attività umane ormai scomparse\, acque cristalline in un ambiente fresco e ombroso. L’escursione non ha tratti esposti\, ma richiede un minimo di agilità per scavalcare tronchi caduti.L’escursione è adatta anche ai bambini.Lungo il tragitto ci sono diversi guadi\, siate pronti a mettere i piedi a mollo  \n\n\n\nDATI ESCURSIONE– Itinerario: A/R– Lunghezza: 7\,5 Km– Durata\, soste escluse: 5h– Rientro previsto: ore 16:00 circa– Livello Escursione: E– Dislivello 200m– Adatto ai bambini dai 9 anni– Cani ammessi. \n\n\n\nPROGRAMMA DELLA GIORNATARitrovi:– Ore 8:30 Bar “fonte della valle”\, Montefortino (saranno fornite coordinate Google Maps) \n\n\n\nEQUIPAGGIAMENTOScarponcini da trekking preferibilmente alti\, pantaloni lunghi\, maglia a manica lunga\, cappellino\, acqua 1 litro a testa. \n\n\n\nEQUIPAGGIAMENTO CONSIGLIATO:Impermeabile\, bastoncini da trekking\, snack dolci e/o frutta secca\, macchina fotografica\, un ricambio da tenere in auto. \n\n\n\nCOME PARTECIPAREPer partecipare all’ escursione è obbligatoria la prenotazione (non è sufficiente il “parteciperò” su facebook)\, comunicando nominativo e numero partecipanti\, tramite:telefono o whatsapp: 366 2263994 (Rodolfo)mail: escursioni@picchiorosso.org \n\n\n\nQUOTA DI PARTECIPAZIONE:€ 15 adultiMinorenni gratis \n\n\n\nChi guiderà:Rodolfo\, Guida Ambientale escursionistica iscritta AIGAE (numero iscrizione MR203)\, coperto da assicurazione RCT
URL:https://www.picchiorosso.org/event/wild-wild-ambro-verso-la-gola-nascosta-e-6
CATEGORIES:Escursioni giornaliere
ATTACH;FMTTYPE=image/jpeg:https://www.picchiorosso.org/wp-content/uploads/2020/06/AMBRO.jpg
END:VEVENT
END:VCALENDAR