BEGIN:VCALENDAR
VERSION:2.0
PRODID:-//Picchio Rosso - ECPv6.15.20//NONSGML v1.0//EN
CALSCALE:GREGORIAN
METHOD:PUBLISH
X-ORIGINAL-URL:https://www.picchiorosso.org
X-WR-CALDESC:Eventi per Picchio Rosso
REFRESH-INTERVAL;VALUE=DURATION:PT1H
X-Robots-Tag:noindex
X-PUBLISHED-TTL:PT1H
BEGIN:VTIMEZONE
TZID:UTC
BEGIN:STANDARD
TZOFFSETFROM:+0000
TZOFFSETTO:+0000
TZNAME:UTC
DTSTART:20240101T000000
END:STANDARD
END:VTIMEZONE
BEGIN:VEVENT
DTSTART;TZID=UTC:20251207T090000
DTEND;TZID=UTC:20251207T150000
DTSTAMP:20260420T134859
CREATED:20251020T090240Z
LAST-MODIFIED:20251201T142249Z
UID:2204-1765098000-1765119600@www.picchiorosso.org
SUMMARY:L'anello del monte Fietone e la Valcaldara (E)
DESCRIPTION:Un affascinante che tocca luoghi poco conosciuti dell’Appennino Umbro-Marchigiano\, proprio ai margini nord-occidentali del Parco dei Monti Sibillini. \n\n\n\nIl punto di partenza sarà la frazione di Cesure\, da dove si inizia a salire dolcemente verso l’abitato di Valcaldara. \n\n\n\nIl tratto iniziale è un vero gioiello naturalistico: si risale lungo il torrente Valcaldara. È un cammino tra boschi e ruscelli che conduce gradualmente al borgo di Selvapiana. \n\n\n\nDa qui\, il percorso si fa più sostenuto e comincia l’ascesa verso la vetta del Monte Fietone. Salendo\, si attraversano ampi pascoli e praterie d’altura che fanno parte dell’omonima Oasi di Protezione della Fauna\, istituita per proteggere specie preziose\, inclusa la maestosa Aquila Reale. \n\n\n\nUna volta raggiunta la cima del Monte Fietone (1389 m)\, si viene ripagati con un panorama a 360 gradi di rara bellezza. La vista spazia dalle alte vette dei Monti Sibillini (come il Monte Bove) fino agli Altipiani di Colfiorito e Montelago. È il luogo perfetto per una sosta rigenerante\, magari cercando con lo sguardo il volo dell’aquila. \n\n\n\nLa discesa si conclude chiudendo l’anello\, offrendo ancora scorci su piccoli centri abitati e chiesette campestri\, prima di fare ritorno al punto di partenza\, portando con sé il ricordo di una giornata trascorsa tra la tranquillità dei pascoli e la storia di questi luoghi di confine. Un itinerario ideale per chi cerca l’incontro tra natura selvaggia e quiete appenninica. \n\n\n\n \n\n\n\nDATI ESCURSIONE– Itinerario: Anello– Lunghezza: 13 Km– Durata\, soste escluse: 3\,5 h– Rientro previsto: ore 15:00 circa– Livello Escursione: E– Dislivello 550 m– Adatta ai ragazzi di qualsiasi età.– Cani ammessi. \n\n\n\n\n\n\n\nPROGRAMMA DELLA GIORNATARitrovi:– Ore 8:15 Bar Fronzi\, Pieve Torina \n\n\n\nEQUIPAGGIAMENTOScarpe da trekking\, acqua\, pranzo al sacco\, k-way o impermeabile. \n\n\n\nEQUIPAGGIAMENTO CONSIGLIATO:Bastoncini da trekking\, scarponi alti\, ghette\, snack dolci e/o frutta secca\,un ricambio da tenere in auto. \n\n\n\nCOME PARTECIPAREPer partecipare all’ escursione è obbligatoria la prenotazione (non è sufficiente il “parteciperò” su facebook)\, comunicando nominativo e numero partecipanti\, tramite: \n\n\n\ntelefono o whatsapp: 366 2263994 (Rodolfo)mail: escursioni@picchiorosso.org \n\n\n\nQUOTA DI PARTECIPAZIONE:€ 15 adultiMinorenni gratis \n\n\n\nChi guiderà:Rodolfo\, Guida Ambientale escursionistica iscritta AIGAE (numero iscrizione MR203)\, coperto da assicurazione RCT.
URL:https://www.picchiorosso.org/event/lanello-del-monte-fietone-e-la-valcaldara-e
ATTACH;FMTTYPE=image/png:https://www.picchiorosso.org/wp-content/uploads/2025/10/image.png
END:VEVENT
BEGIN:VEVENT
DTSTART;TZID=UTC:20251214T090000
DTEND;TZID=UTC:20251214T153000
DTSTAMP:20260420T134859
CREATED:20210625T130620Z
LAST-MODIFIED:20251201T142654Z
UID:1479-1765702800-1765726200@www.picchiorosso.org
SUMMARY:La passeggiata dei tre boschi (E)
DESCRIPTION:Querce\, faggi\, castagni. \n\n\n\nUna passeggiata ai piedi del Vettore per ammirare ben tre diversi tipi di bosco. I loro elementi naturali\, i segno dell’intervento umano\, le peculiarità della flora e della fauna che li contraddistinguono. \n\n\n\nPer attraversarli cammineremo lungo un antico sentiero. Tracce di un passato quasi dimenticato fatto di migrazioni stagionali attraverso le montagne alla ricerca di lavoro\, cibo\, vita. \n\n\n\nIl sentiero che più di ogni altro permette di ammirare la maestosità del Monte Vettore. Per tutto il percorso potremo ammirarne l’imponenza e la silenziosa maestosità. \n\n\n\nDATI ESCURSIONEItinerario: ad anelloLunghezza: 10 KmDurata\, soste escluse: 4hRientro previsto: ore 15;30 circaLivello Escursione: EDislivello 300mAdatta ai bambini dagli 8 anniCani ammessi. \n\n\n\nPROGRAMMA DELLA GIORNATARitrovi: Ore 8:30 Flory Caffetteria – Comunanza. \n\n\n\nEQUIPAGGIAMENTO:Scarpe da trekking \, cappellino\, pranzo al sacco\, acqua 1 litro a testa. \n\n\n\nEQUIPAGGIAMENTO CONSIGLIATO: Impermeabile\, bastoncini da trekking\, snack dolci e/o frutta secca\, macchina fotografica\, un ricambio da tenere in auto. \n\n\n\nCOME PARTECIPAREPer partecipare all’ escursione è obbligatoria la prenotazione (non è sufficiente il “parteciperò” su facebook)\, comunicando nominativo e numero partecipanti\, tramite:telefono o whatsapp: 366 2263994 (Rodolfo)mail: escursioni@picchiorosso.org \n\n\n\nQUOTA DI PARTECIPAZIONE:€ 15 adultiMinorenni gratis
URL:https://www.picchiorosso.org/event/la-passeggiata-dei-tre-boschi-e-2
CATEGORIES:Escursioni giornaliere
ATTACH;FMTTYPE=image/jpeg:https://www.picchiorosso.org/wp-content/uploads/2019/07/Altino.jpg
END:VEVENT
BEGIN:VEVENT
DTSTART;TZID=UTC:20251228T090000
DTEND;TZID=UTC:20251228T160000
DTSTAMP:20260420T134859
CREATED:20240228T233159Z
LAST-MODIFIED:20251201T191655Z
UID:1886-1766912400-1766937600@www.picchiorosso.org
SUMMARY:L'anello del Guerrin Meschino: attraverso la Portella del Vao fino alla Valle delle Fonti (E)
DESCRIPTION:Sulle orme del Guerrin Meschino: un viaggio affascinante tra storia e leggenda.Ripercorreremo le orme del leggendario eroe cavalleresco in un’escursione che ci condurrà attraverso paesaggi incantati e boschi pittoreschi. \n\n\n\nIl Guerrin Meschino\, protagonista di un’epica chanson de geste\, è un cavaliere errante che ha solcato mari e terre in cerca di avventure. Le sue gesta sono narrate in un poema cavalleresco di oltre 30.000 versi\, che ha affascinato generazioni di lettori. \n\n\n\nNoi ne ripercorreremo in parte le orme\, seguendo quella che secondo la leggenda fu la via che egli percorse per avvicinarsi alla Sibilla\, grazie a un sentiero che attraversa i luoghi che hanno fatto da sfondo alle sue avventure. \n\n\n\nIl percorso si snoda per circa 100 km\, attraversando l’Appennino umbro-marchigiano. Si parte dalla città di Fabriano\, dove il Guerrin Meschino nacque\, e si arriva al Monte Vettore\, la montagna che egli scalò per affrontare il drago. \n\n\n\nDATI ESCURSIONEItinerario: ad anelloLunghezza: 11 KmDurata\, soste escluse: 4\,5hRientro previsto: ore 15:30 circaLivello Escursione: EDislivello 410mAdatta ai bambini dai 10 anniCani ammessi. \n\n\n\nPROGRAMMA DELLA GIORNATARitrovi: 8.45 Castelluccio di Norcia \n\n\n\nEQUIPAGGIAMENTO:Scarpe da trekking \, cappellino\, pranzo al sacco\, acqua 1 litro a testa. \n\n\n\nEQUIPAGGIAMENTO CONSIGLIATO: Impermeabile\, bastoncini da trekking\, snack dolci e/o frutta secca\, macchina fotografica\, un ricambio da tenere in auto. \n\n\n\nCOME PARTECIPAREPer partecipare all’ escursione è obbligatoria la prenotazione (non è sufficiente il “parteciperò” su facebook)\, comunicando nominativo e numero partecipanti\, tramite:telefono o whatsapp: 366 2263994 (Rodolfo)mail: escursioni@picchiorosso.org \n\n\n\nQUOTA DI PARTECIPAZIONE:€ 15 adultiMinorenni gratis \n\n\n\nChi guiderà:Rodolfo\, Guida Ambientale escursionistica iscritta AIGAE (numero iscrizione MR203)\, coperto da assicurazione RCT. 
URL:https://www.picchiorosso.org/event/lanello-del-guerrin-meschino-attraverso-la-portella-del-vao-fino-alla-valle-delle-fonti-e
ATTACH;FMTTYPE=image/jpeg:https://www.picchiorosso.org/wp-content/uploads/2024/02/Castelluccio.jpg
END:VEVENT
END:VCALENDAR