BEGIN:VCALENDAR
VERSION:2.0
PRODID:-//Picchio Rosso - ECPv6.15.20//NONSGML v1.0//EN
CALSCALE:GREGORIAN
METHOD:PUBLISH
X-WR-CALNAME:Picchio Rosso
X-ORIGINAL-URL:https://www.picchiorosso.org
X-WR-CALDESC:Eventi per Picchio Rosso
REFRESH-INTERVAL;VALUE=DURATION:PT1H
X-Robots-Tag:noindex
X-PUBLISHED-TTL:PT1H
BEGIN:VTIMEZONE
TZID:UTC
BEGIN:STANDARD
TZOFFSETFROM:+0000
TZOFFSETTO:+0000
TZNAME:UTC
DTSTART:20230101T000000
END:STANDARD
END:VTIMEZONE
BEGIN:VEVENT
DTSTART;TZID=UTC:20241103T090000
DTEND;TZID=UTC:20241103T160000
DTSTAMP:20260420T135801
CREATED:20210718T125844Z
LAST-MODIFIED:20241004T091726Z
UID:1487-1730624400-1730649600@www.picchiorosso.org
SUMMARY:Appennino perduto: anello della grotta del Petrienno (E)
DESCRIPTION:L’Appennino perduto è un meraviglioso angolo di mondo delimitato a nord dal Fluvione e a sud dal Tronto\, all’ombra del monte Ceresa che con i suoi 1494 metri di quota rappresenta la punta massima. \n\n\n\nAll’origine del nome sinistro un lungo processo di spopolamento che oggi restituisce un territorio costellato da una miriade di paesi fantasma arroccati sulle alture e insediamenti rupestri anticamente destinati alla dimora con annessi ricoveri del bestiame e dei foraggi situati all’interno di cavità naturali\, la più famosa delle quali prende il nome di “grotta del Petrienno”. \n\n\n\nIl tutto perfettamente incastonato in un ambiente naturale di grande suggestione.Un’escursione adatta a tutti\, che vi lascerà incantati per varietà e peculiarità! \n\n\n\nDATI ESCURSIONE– Itinerario: Anello– Lunghezza: 12 Km– Durata\, soste escluse: 4 h– Rientro previsto: ore 15.30 circa– Livello Escursione: E– Dislivello 250m– Adatta ai bambini dai 7 anni– Cani ammessi. \n\n\n\n\n\n\n\nPROGRAMMA DELLA GIORNATARitrovi:– Ore 8:30 Stazione di servizio / bar ENI – Via Salaria\, Acquasanta Terme AP (saranno fornite coordinate google maps)Da qui raggiungeremo il luogo di partenza (15 min di auto) \n\n\n\nEQUIPAGGIAMENTOScarpe da trekking\, abbigliamento a strati adatto a un clima invernale\, impermeabile/k-way\, cappello\, acqua almeno un litro a testa. \n\n\n\nEQUIPAGGIAMENTO CONSIGLIATO:Bastoncini da trekking\, snack dolci e/o frutta secca\, un ricambio da tenere in auto. \n\n\n\nCOME PARTECIPAREPer partecipare all’ escursione è obbligatoria la prenotazione (non è sufficiente il “parteciperò” su facebook)\, comunicando nominativo e numero partecipanti\, tramite:telefono o whatsapp: 366 2263994 (Rodolfo)mail: escursioni@picchiorosso.org \n\n\n\nQUOTA DI PARTECIPAZIONE:€ 15Minorenni gratis \n\n\n\nChi guiderà:Rodolfo\, Guida Ambientale escursionistica iscritta AIGAE (numero iscrizione MR203)\, coperto da assicurazione RCT.
URL:https://www.picchiorosso.org/event/appennino-perduto-anello-della-grotta-del-petrienno-e
CATEGORIES:Escursioni giornaliere
ATTACH;FMTTYPE=image/png:https://www.picchiorosso.org/wp-content/uploads/2021/07/DSC2723.png
END:VEVENT
END:VCALENDAR