BEGIN:VCALENDAR
VERSION:2.0
PRODID:-//Picchio Rosso - ECPv6.15.20//NONSGML v1.0//EN
CALSCALE:GREGORIAN
METHOD:PUBLISH
X-WR-CALNAME:Picchio Rosso
X-ORIGINAL-URL:https://www.picchiorosso.org
X-WR-CALDESC:Eventi per Picchio Rosso
REFRESH-INTERVAL;VALUE=DURATION:PT1H
X-Robots-Tag:noindex
X-PUBLISHED-TTL:PT1H
BEGIN:VTIMEZONE
TZID:UTC
BEGIN:STANDARD
TZOFFSETFROM:+0000
TZOFFSETTO:+0000
TZNAME:UTC
DTSTART:20230101T000000
END:STANDARD
END:VTIMEZONE
BEGIN:VEVENT
DTSTART;TZID=UTC:20240908T090000
DTEND;TZID=UTC:20240908T143000
DTSTAMP:20260420T154113
CREATED:20230325T215002Z
LAST-MODIFIED:20240831T122222Z
UID:1758-1725786000-1725805800@www.picchiorosso.org
SUMMARY:L'anello del monte San Vicino: la montagna dal doppio volto(E)
DESCRIPTION:Stupende faggete con alberi secolari\, le gole nascoste\, le colorate praterie piene di fiori: una diversità di habitat\, flora\, fauna che sorprende tutti\, ogni giorno. Come tutte le cose umili e preziose\, è un territorio unico e inconfondibile\, con la vetta che tocca i 1480m\, parte della dorsale appenninica marchigiana\, la linea di rilievi che si trovano tra la costa Adriatica e l’Appennino umbro-marchigiano.  \n\n\n\nIl san Vicino\, per la sua posizione privilegiata\, offre uno dei panorami più belli delle Marche. Dalla sua cima è praticamente visibile l’intera regione.La sua relativa vicinanza alla costa lo fa sembrare ancora più imponente e il non avere intorno altre cime permette dalla sua vetta di spaziare in ogni direzione. \n\n\n\nL’altra sua peculiarità è l’aspetto: il San Vicino infatti presenta due forme diverse a seconda del versante da dove lo si osserva. Da qui il suo nome “poeticizzato”. \n\n\n\nIn tempi antichi costituiva un importante punto di riferimento per orientarsi\, anche per via della sua forma particolare che appare diversa dai vari punti cardinali. \n\n\n\nL’itinerario che ci porterà prima ad aggirarlo e poi a scavalcarlo toccandone la vetta fra faggete secolari e pascoli\, con viste sempre varie. \n\n\n\nIl luogo ideale per trascorrere una giornata di festa! \n\n\n\nL’escursione è adatta a tutti. \n\n\n\n \n\n\n\nDATI ESCURSIONEItinerario: ad anelloLunghezza: 7 KmDurata\, soste escluse: 3hRientro previsto: ore 13:00 circaLivello Escursione: EDislivello 450mAdatta ai bambini dai 7 anni.Cani ammessi. \n\n\n\nPROGRAMMA DELLA GIORNATARitrovi: Ore 8:30 bar Girasole\, Corsciano (aranno fornite coordinate google maps) \n\n\n\nEQUIPAGGIAMENTO:Scarpe da trekking \, cappellino\, pranzo al sacco\, acqua 1 litro a testa. \n\n\n\nEQUIPAGGIAMENTO CONSIGLIATO: Impermeabile\, bastoncini da trekking\, snack dolci e/o frutta secca\, macchina fotografica\, un ricambio da tenere in auto. \n\n\n\nCOME PARTECIPAREPer partecipare all’ escursione è obbligatoria la prenotazione (non è sufficiente il “parteciperò” su facebook)\, comunicando nominativo e numero partecipanti\, tramite:telefono o whatsapp: 366 2263994 (Rodolfo)mail: escursioni@picchiorosso.org \n\n\n\nQUOTA DI PARTECIPAZIONE:€ 15 adultiMinorenni gratis \n\n\n\nChi guiderà:Rodolfo\, Guida Ambientale escursionistica iscritta AIGAE (numero iscrizione MR203)\, coperto da assicurazione RCT.
URL:https://www.picchiorosso.org/event/lanello-del-monte-san-vicinoe
CATEGORIES:Escursioni giornaliere
ATTACH;FMTTYPE=image/jpeg:https://www.picchiorosso.org/wp-content/uploads/2019/09/Canfaito_Matt.jpg
END:VEVENT
END:VCALENDAR