BEGIN:VCALENDAR
VERSION:2.0
PRODID:-//Picchio Rosso - ECPv6.15.20//NONSGML v1.0//EN
CALSCALE:GREGORIAN
METHOD:PUBLISH
X-ORIGINAL-URL:https://www.picchiorosso.org
X-WR-CALDESC:Eventi per Picchio Rosso
REFRESH-INTERVAL;VALUE=DURATION:PT1H
X-Robots-Tag:noindex
X-PUBLISHED-TTL:PT1H
BEGIN:VTIMEZONE
TZID:UTC
BEGIN:STANDARD
TZOFFSETFROM:+0000
TZOFFSETTO:+0000
TZNAME:UTC
DTSTART:20240101T000000
END:STANDARD
END:VTIMEZONE
BEGIN:VEVENT
DTSTART;TZID=UTC:20251228T090000
DTEND;TZID=UTC:20251228T160000
DTSTAMP:20260420T191415
CREATED:20240228T233159Z
LAST-MODIFIED:20251201T191655Z
UID:1886-1766912400-1766937600@www.picchiorosso.org
SUMMARY:L'anello del Guerrin Meschino: attraverso la Portella del Vao fino alla Valle delle Fonti (E)
DESCRIPTION:Sulle orme del Guerrin Meschino: un viaggio affascinante tra storia e leggenda.Ripercorreremo le orme del leggendario eroe cavalleresco in un’escursione che ci condurrà attraverso paesaggi incantati e boschi pittoreschi. \n\n\n\nIl Guerrin Meschino\, protagonista di un’epica chanson de geste\, è un cavaliere errante che ha solcato mari e terre in cerca di avventure. Le sue gesta sono narrate in un poema cavalleresco di oltre 30.000 versi\, che ha affascinato generazioni di lettori. \n\n\n\nNoi ne ripercorreremo in parte le orme\, seguendo quella che secondo la leggenda fu la via che egli percorse per avvicinarsi alla Sibilla\, grazie a un sentiero che attraversa i luoghi che hanno fatto da sfondo alle sue avventure. \n\n\n\nIl percorso si snoda per circa 100 km\, attraversando l’Appennino umbro-marchigiano. Si parte dalla città di Fabriano\, dove il Guerrin Meschino nacque\, e si arriva al Monte Vettore\, la montagna che egli scalò per affrontare il drago. \n\n\n\nDATI ESCURSIONEItinerario: ad anelloLunghezza: 11 KmDurata\, soste escluse: 4\,5hRientro previsto: ore 15:30 circaLivello Escursione: EDislivello 410mAdatta ai bambini dai 10 anniCani ammessi. \n\n\n\nPROGRAMMA DELLA GIORNATARitrovi: 8.45 Castelluccio di Norcia \n\n\n\nEQUIPAGGIAMENTO:Scarpe da trekking \, cappellino\, pranzo al sacco\, acqua 1 litro a testa. \n\n\n\nEQUIPAGGIAMENTO CONSIGLIATO: Impermeabile\, bastoncini da trekking\, snack dolci e/o frutta secca\, macchina fotografica\, un ricambio da tenere in auto. \n\n\n\nCOME PARTECIPAREPer partecipare all’ escursione è obbligatoria la prenotazione (non è sufficiente il “parteciperò” su facebook)\, comunicando nominativo e numero partecipanti\, tramite:telefono o whatsapp: 366 2263994 (Rodolfo)mail: escursioni@picchiorosso.org \n\n\n\nQUOTA DI PARTECIPAZIONE:€ 15 adultiMinorenni gratis \n\n\n\nChi guiderà:Rodolfo\, Guida Ambientale escursionistica iscritta AIGAE (numero iscrizione MR203)\, coperto da assicurazione RCT. 
URL:https://www.picchiorosso.org/event/lanello-del-guerrin-meschino-attraverso-la-portella-del-vao-fino-alla-valle-delle-fonti-e
ATTACH;FMTTYPE=image/jpeg:https://www.picchiorosso.org/wp-content/uploads/2024/02/Castelluccio.jpg
END:VEVENT
END:VCALENDAR